BEGIN:VCALENDAR
VERSION:2.0
PRODID:-//jEvents 2.0 for Joomla//EN
CALSCALE:GREGORIAN
METHOD:PUBLISH
BEGIN:VTIMEZONE
TZID:Indian/Mahe
BEGIN:STANDARD
DTSTART:20150708T153000
RDATE:20380119T071407
TZOFFSETFROM:+0400
TZOFFSETTO:+0400
TZNAME:Indian/Mahe +04
END:STANDARD
END:VTIMEZONE
BEGIN:VEVENT
UID:3c67c2d4c11d06fab52916ab74a0653f
CATEGORIES:Cens Colloquium
CREATED:20170703T075029
SUMMARY:Colloquium on The Role of Oxides in Materials Chemistry:Select Examples
LOCATION:LECTURE HALL
DESCRIPTION;ENCODING=QUOTED-PRINTABLE:Colloquium on The Role of Oxides in Materials Chemistry:Select Examples\nby
 \nProf. Srinivasan Natarajan, FASc, FNASc\nFramework Solids Laboratory, Sol
 id State and Structural\nChemistry Unit, IISc, Bangalore\non\nFriday, 8 Jul
 y 2016\nTime:&nbsp;3.30 P.M.\nVenue: Lecture Hall\n This event was imported
  from: https://cens.res.in/hi/events/eventdetail/63/-/colloquium-on-the-rol
 e-of-oxides-in-materials-chemistry-select-examples?tmpl=component
DTSTAMP:20260421T104922Z
DTSTART;TZID=Indian/Mahe:20160708T153000
SEQUENCE:0
TRANSP:OPAQUE
END:VEVENT
END:VCALENDAR