BEGIN:VCALENDAR
VERSION:2.0
PRODID:-//jEvents 2.0 for Joomla//EN
CALSCALE:GREGORIAN
METHOD:PUBLISH
BEGIN:VTIMEZONE
TZID:Indian/Mahe
BEGIN:STANDARD
DTSTART:20150621T150000
RDATE:20380119T071407
TZOFFSETFROM:+0400
TZOFFSETTO:+0400
TZNAME:Indian/Mahe +04
END:STANDARD
END:VTIMEZONE
BEGIN:VEVENT
UID:537b9efeeb919e352d6c917e1c08d13f
CATEGORIES:Special Events
CREATED:20170703T074402
SUMMARY:International Yoga Day
LOCATION:LECTURE HALL
DESCRIPTION;ENCODING=QUOTED-PRINTABLE:\n\nThe 2nd International Yoga Day was celebrated in our Centre on 21 June 
 2016.\n\n\nDr Lathashekhar, a renowned Yoga practitioner and founder of Amr
 ita Yoga Kendra, Bengaluru was invited as the Guest and for delivering a Le
 cture-Demonstration on the benefits of Yoga, at the Centre.\n\n\nDr. Lathas
 hekhar made an inspiring presentation, detailing the benefits of practicing
  Yoga and also demonstrated various Mudras&nbsp; and Aasanas, which are eff
 ective in avoiding work related stress, fatigue, back pain and other such p
 roblems.&nbsp; The members of the Centre also took part in the interactive 
 session after the lecture.\n\n\nThe lecture-demo was followed by a enthrall
 ing show of Yoga postures and acrobatic formations, performed by young stud
 ents of Amrita Yoga Kendra, along with Dr. Lathashekar.&nbsp; This was well
  received and applauded by the audience.\n\n\nThe programme has strongly mo
 tivated the staff as well as students to take up Yoga and aim for a healthy
  lifestyle.\n\n\n\n\n\n\n\n\n\n\n\n\n This event was imported from: https:/
 /cens.res.in/hi/events/eventdetail/61/-/international-yoga-day?tmpl=compone
 nt
DTSTAMP:20260421T073721Z
DTSTART;TZID=Indian/Mahe:20160621T150000
SEQUENCE:0
TRANSP:OPAQUE
END:VEVENT
END:VCALENDAR