BEGIN:VCALENDAR
VERSION:2.0
PRODID:-//jEvents 2.0 for Joomla//EN
CALSCALE:GREGORIAN
METHOD:PUBLISH
BEGIN:VTIMEZONE
TZID:Indian/Mahe
BEGIN:STANDARD
DTSTART:20220831T150000
RDATE:20380119T071407
TZOFFSETFROM:+0400
TZOFFSETTO:+0400
TZNAME:Indian/Mahe +04
END:STANDARD
END:VTIMEZONE
BEGIN:VEVENT
UID:df83ccff1c102aba9ac1b55c197e6811
CATEGORIES:Special Events
CREATED:20230901T145529
SUMMARY:Self-healing in Hybrid Halide Perovskite Photovoltaic Devices
LOCATION:Classroom
DESCRIPTION;ENCODING=QUOTED-PRINTABLE:Special lecture\n on&nbsp;\nSelf-healing in Hybrid Halide Perovskite Photov
 oltaic Devices\nby\nProf. Shaibal K. Sarkar,\nDepartment of Energy Science 
 &amp; Engineering\non\nFriday, 1 Sep, 2023\nTime:03:00pm\nVenue: Classroom\
 n This event was imported from: https://cens.res.in/hi/events/eventdetail/4
 54/-/self-healing-in-hybrid-halide-perovskite-photovoltaic-devices?tmpl=com
 ponent
DTSTAMP:20260425T071214Z
DTSTART;TZID=Indian/Mahe:20230901T150000
DTEND;TZID=Indian/Mahe:20230901T170000
SEQUENCE:0
TRANSP:OPAQUE
END:VEVENT
END:VCALENDAR