BEGIN:VCALENDAR
VERSION:2.0
PRODID:-//jEvents 2.0 for Joomla//EN
CALSCALE:GREGORIAN
METHOD:PUBLISH
BEGIN:VTIMEZONE
TZID:Indian/Mahe
BEGIN:STANDARD
DTSTART:20141210T153000
RDATE:20380119T071407
TZOFFSETFROM:+0400
TZOFFSETTO:+0400
TZNAME:Indian/Mahe +04
END:STANDARD
END:VTIMEZONE
BEGIN:VEVENT
UID:2ac67acb551e21b4ddb70ee467faa72b
CATEGORIES:Cens Colloquium
CREATED:20170703T065117
SUMMARY:Colloquium: Playing Dice with Metal Organophosphate Building Blocks: Entry to a New Class of Porous Solids.
LOCATION:LECTURE HALL
DESCRIPTION;ENCODING=QUOTED-PRINTABLE:Playing Dice with Metal Organophosphate Building Blocks: Entry to a New Cla
 ss of Porous Solids\nby\nProf. Ramaswamy Murugavel\nDepartment of Chemistry
 , IIT Bombay\nPowai, Mumbai\non\nFriday, 11 December 2015\nTime:&nbsp;3.30 
 P.M.\nVenue: Lecture Hall\n This event was imported from: https://cens.res.
 in/hi/events/eventdetail/39/-/colloquium-playing-dice-with-metal-organophos
 phate-building-blocks-entry-to-a-new-class-of-porous-solids?tmpl=component
DTSTAMP:20260421T104918Z
DTSTART;TZID=Indian/Mahe:20151211T153000
SEQUENCE:0
TRANSP:OPAQUE
END:VEVENT
END:VCALENDAR