BEGIN:VCALENDAR
VERSION:2.0
PRODID:-//jEvents 2.0 for Joomla//EN
CALSCALE:GREGORIAN
METHOD:PUBLISH
BEGIN:VTIMEZONE
TZID:Indian/Mahe
BEGIN:STANDARD
DTSTART:20141209T153000
RDATE:20380119T071407
TZOFFSETFROM:+0400
TZOFFSETTO:+0400
TZNAME:Indian/Mahe +04
END:STANDARD
END:VTIMEZONE
BEGIN:VEVENT
UID:54b9d24b0d92d60e25ff2c2beb75b847
CATEGORIES:Cens Colloquium
CREATED:20170703T064948
SUMMARY:Colloquium: Emerging Thermal and Energy Nanomaterials for Rapid Transient Events
LOCATION:LECTURE HALL
DESCRIPTION;ENCODING=QUOTED-PRINTABLE:Emerging Thermal and Energy Nanomaterials for Rapid Transient Events\nby\nP
 rof. Timothy S. Fisher\nSchool of Mechanical Engineering & Birck Nanotechno
 logy Center\nPurdue University\nWest Lafayette, USA\non\nThursday, 10 Decem
 ber 2015\nTime:&nbsp;3.30 P.M.\nVenue: Lecture Hall\n This event was import
 ed from: https://cens.res.in/hi/events/eventdetail/38/-/colloquium-emerging
 -thermal-and-energy-nanomaterials-for-rapid-transient-events?tmpl=component
DTSTAMP:20260421T104822Z
DTSTART;TZID=Indian/Mahe:20151210T153000
SEQUENCE:0
TRANSP:OPAQUE
END:VEVENT
END:VCALENDAR