BEGIN:VCALENDAR
VERSION:2.0
PRODID:-//jEvents 2.0 for Joomla//EN
CALSCALE:GREGORIAN
METHOD:PUBLISH
BEGIN:VTIMEZONE
TZID:Indian/Mahe
BEGIN:STANDARD
DTSTART:20210620T160000
RDATE:20380119T071407
TZOFFSETFROM:+0400
TZOFFSETTO:+0400
TZNAME:Indian/Mahe +04
END:STANDARD
END:VTIMEZONE
BEGIN:VEVENT
UID:718858ba2031913b9027296d0238987c
CATEGORIES:Special Events
CREATED:20220624T091720
SUMMARY:Yoga for Humanity
LOCATION:Multipurpose Hall
DESCRIPTION;ENCODING=QUOTED-PRINTABLE:On the Occasion of International Yoga Day\nDemo on Talk on Yoga for Humanit
 y\nby\nDr S N Omkar\nChief Research Scientist, IISc &amp; Honorary Professo
 r in Yoga, Wellness University\nTime: 4pm\n\n\n&nbsp;\n This event was impo
 rted from: https://cens.res.in/hi/events/eventdetail/374/-/yoga-for-humanit
 y?tmpl=component
DTSTAMP:20260423T213035Z
DTSTART;TZID=Indian/Mahe:20220621T160000
DTEND;TZID=Indian/Mahe:20220621T170000
SEQUENCE:0
TRANSP:OPAQUE
END:VEVENT
END:VCALENDAR