BEGIN:VCALENDAR
VERSION:2.0
PRODID:-//jEvents 2.0 for Joomla//EN
CALSCALE:GREGORIAN
METHOD:PUBLISH
BEGIN:VTIMEZONE
TZID:Indian/Mahe
BEGIN:STANDARD
DTSTART:20210612T150000
RDATE:20380119T071407
TZOFFSETFROM:+0400
TZOFFSETTO:+0400
TZNAME:Indian/Mahe +04
END:STANDARD
END:VTIMEZONE
BEGIN:VEVENT
UID:e09bee62ee7135dc4e6369717a1c40ae
CATEGORIES:Special Events
CREATED:20220614T082824
SUMMARY:World beneath the Oceans their importance and conservation
LOCATION:Online
DESCRIPTION;ENCODING=QUOTED-PRINTABLE:<p style="text-align: center;"><strong><span style="font-size: 12pt;">Speci
 al Lecture on Occassion of World Ocean Day</span></strong></p><p style="tex
 t-align: center;"><strong>World beneath the Oceans their importance and con
 servation</strong></p><p style="text-align: center;">by</p><p style="text-a
 lign: center;"><span style="font-size: 12pt;"><strong>Nandakumar M N</stron
 g></span></p><p style="text-align: center;">Scuba Diver</p><p style="text-a
 lign: center;">on</p><p style="text-align: center;"><strong>Monday, 13 Jun 
 2022</strong></p><p>&nbsp;</p> This event was imported from: https://cens.r
 es.in/hi/events/eventdetail/370/-/world-beneath-the-oceans-their-importance
 -and-conservation?tmpl=component
DTSTAMP:20260423T213111Z
DTSTART;TZID=Indian/Mahe:20220613T150000
DTEND;TZID=Indian/Mahe:20220613T170000
SEQUENCE:0
TRANSP:OPAQUE
END:VEVENT
END:VCALENDAR