BEGIN:VCALENDAR
VERSION:2.0
PRODID:-//jEvents 2.0 for Joomla//EN
CALSCALE:GREGORIAN
METHOD:PUBLISH
BEGIN:VTIMEZONE
TZID:Indian/Mahe
BEGIN:STANDARD
DTSTART:20210420T150000
RDATE:20380119T071407
TZOFFSETFROM:+0400
TZOFFSETTO:+0400
TZNAME:Indian/Mahe +04
END:STANDARD
END:VTIMEZONE
BEGIN:VEVENT
UID:f5016dbb0f92ab92e2de6ee46c690827
CATEGORIES:Open Defense
CREATED:20220422T090700
SUMMARY:GROWING GRAPHENE AND ITS DERIVATIVES ON VARIOUS SUBSTRATES FOR DIVERSE APPLICATIONS
DESCRIPTION;ENCODING=QUOTED-PRINTABLE:<p style="color: #333333; font-family: Verdana, Geneva, sans-serif; font-si
 ze: 13.3333px; font-style: normal; font-weight: 400; letter-spacing: normal
 ; text-align: center; text-indent: 0px; text-transform: none; white-space: 
 normal; word-spacing: 0px; background-color: #ffffff;"><em>Open Defense and
  viva-voce examination</em></p><p style="color: #333333; font-family: Verda
 na, Geneva, sans-serif; font-size: 13.3333px; font-style: normal; font-weig
 ht: 400; letter-spacing: normal; text-align: center; text-indent: 0px; text
 -transform: none; white-space: normal; word-spacing: 0px; background-color:
  #ffffff;"><em>of PhD thesis entitled</em></p><p style="color: #333333; fon
 t-family: Verdana, Geneva, sans-serif; font-size: 13.3333px; font-style: no
 rmal; font-weight: 400; letter-spacing: normal; text-align: center; text-in
 dent: 0px; text-transform: none; white-space: normal; word-spacing: 0px; ba
 ckground-color: #ffffff;"><em>"<span class="v1v1v1v1v1v1v1v1fontstyle0">GRO
 WING GR</span><span class="v1v1v1v1v1v1v1v1fontstyle0" style="color: #17171
 7;">A</span><span class="v1v1v1v1v1v1v1v1fontstyle0">P</span><span class="v
 1v1v1v1v1v1v1v1fontstyle0" style="color: #171717;">HENE AND IT</span><span 
 class="v1v1v1v1v1v1v1v1fontstyle0">S&nbsp;</span><span class="v1v1v1v1v1v1v
 1v1fontstyle0" style="color: #171717;">DERI</span><span class="v1v1v1v1v1v1
 v1v1fontstyle0">V</span><span class="v1v1v1v1v1v1v1v1fontstyle0" style="col
 or: #171717;">A</span><span class="v1v1v1v1v1v1v1v1fontstyle0">T</span><spa
 n class="v1v1v1v1v1v1v1v1fontstyle0" style="color: #171717;">IVES&nbsp;</sp
 an><span class="v1v1v1v1v1v1v1v1fontstyle0">ON&nbsp;</span><span class="v1v
 1v1v1v1v1v1v1fontstyle0" style="color: #171717;">VA</span><span class="v1v1
 v1v1v1v1v1v1fontstyle0">RIOUS SUBSTRATES FOR DIVERSE&nbsp;</span><span clas
 s="v1v1v1v1v1v1v1v1fontstyle0" style="color: #171717;">A</span><span class=
 "v1v1v1v1v1v1v1v1fontstyle0">PP</span><span class="v1v1v1v1v1v1v1v1fontstyl
 e0" style="color: #171717;">LI</span><span class="v1v1v1v1v1v1v1v1fontstyle
 0">C</span><span class="v1v1v1v1v1v1v1v1fontstyle0" style="color: #171717;"
 >ATIONS"</span></em></p><p style="color: #333333; font-family: Verdana, Gen
 eva, sans-serif; font-size: 13.3333px; font-style: normal; font-weight: 400
 ; letter-spacing: normal; text-align: center; text-indent: 0px; text-transf
 orm: none; white-space: normal; word-spacing: 0px; background-color: #fffff
 f;">By</p><p style="color: #333333; font-family: Verdana, Geneva, sans-seri
 f; font-size: 13.3333px; font-style: normal; font-weight: 400; letter-spaci
 ng: normal; text-align: center; text-indent: 0px; text-transform: none; whi
 te-space: normal; word-spacing: 0px; background-color: #ffffff;"><strong>Mr
 . Rajashekhar Pujar<br /></strong></p><p style="color: #333333; font-family
 : Verdana, Geneva, sans-serif; font-size: 13.3333px; font-style: normal; fo
 nt-weight: 400; letter-spacing: normal; text-align: center; text-indent: 0p
 x; text-transform: none; white-space: normal; word-spacing: 0px; background
 -color: #ffffff;">on</p><p style="color: #333333; font-family: Verdana, Gen
 eva, sans-serif; font-size: 13.3333px; font-style: normal; font-weight: 400
 ; letter-spacing: normal; text-align: center; text-indent: 0px; text-transf
 orm: none; white-space: normal; word-spacing: 0px; background-color: #fffff
 f;"><strong>Thursday, 21 April 2022</strong></p><p style="color: #333333; f
 ont-family: Verdana, Geneva, sans-serif; font-size: 13.3333px; font-style: 
 normal; font-weight: 400; letter-spacing: normal; text-align: center; text-
 indent: 0px; text-transform: none; white-space: normal; word-spacing: 0px; 
 background-color: #ffffff;"><strong>Time: 3:00 PM<br /></strong></p><p styl
 e="color: #333333; font-family: Verdana, Geneva, sans-serif; font-size: 13.
 3333px; font-style: normal; font-weight: 400; letter-spacing: normal; text-
 align: center; text-indent: 0px; text-transform: none; white-space: normal;
  word-spacing: 0px; background-color: #ffffff;"><strong>Venue</strong>: Cla
 ss Room, CeNS</p> This event was imported from: https://cens.res.in/hi/even
 ts/eventdetail/363/-/growing-graphene-and-its-derivatives-on-various-substr
 ates-for-diverse-applications?tmpl=component
DTSTAMP:20260421T105226Z
DTSTART;TZID=Indian/Mahe:20220421T150000
DTEND;TZID=Indian/Mahe:20220421T160000
SEQUENCE:0
TRANSP:OPAQUE
END:VEVENT
END:VCALENDAR