BEGIN:VCALENDAR
VERSION:2.0
PRODID:-//jEvents 2.0 for Joomla//EN
CALSCALE:GREGORIAN
METHOD:PUBLISH
BEGIN:VTIMEZONE
TZID:Indian/Mahe
BEGIN:STANDARD
DTSTART:20210328T153000
RDATE:20380119T071407
TZOFFSETFROM:+0400
TZOFFSETTO:+0400
TZNAME:Indian/Mahe +04
END:STANDARD
END:VTIMEZONE
BEGIN:VEVENT
UID:818966191ef7bd265debfa7f347cc3b9
CATEGORIES:Viva voce
CREATED:20220408T102236
SUMMARY:INVESTIGATION OF STRUCTURAL AND OPTICAL PROPERTIES OF INORGANIC ENERGY HARVESTING MATERIALS
LOCATION:Online
DESCRIPTION;ENCODING=QUOTED-PRINTABLE:Open Defense and viva-voce examination&nbsp;of PhD thesis entitled\nINVESTI
 GATION OF STRUCTURAL AND OPTICAL PROPERTIES OF INORGANIC ENERGY HARVESTING 
 MATERIALS\n&nbsp;By\n&nbsp;Mr. Anamul Haque\n&nbsp;on\n&nbsp;Tuesday, 29 Ma
 rch 2022\n&nbsp;Time: 3:30 P.M\n This event was imported from: https://cens
 .res.in/hi/events/eventdetail/358/-/investigation-of-structural-and-optical
 -properties-of-inorganic-energy-harvesting-materials?tmpl=component
DTSTAMP:20260421T105051Z
DTSTART;TZID=Indian/Mahe:20220329T153000
DTEND;TZID=Indian/Mahe:20220329T163000
SEQUENCE:0
TRANSP:OPAQUE
END:VEVENT
END:VCALENDAR