BEGIN:VCALENDAR
VERSION:2.0
PRODID:-//jEvents 2.0 for Joomla//EN
CALSCALE:GREGORIAN
METHOD:PUBLISH
BEGIN:VTIMEZONE
TZID:Indian/Mahe
BEGIN:STANDARD
DTSTART:20141126T153000
RDATE:20380119T071407
TZOFFSETFROM:+0400
TZOFFSETTO:+0400
TZNAME:Indian/Mahe +04
END:STANDARD
END:VTIMEZONE
BEGIN:VEVENT
UID:13634e711df4ddca29cb7838e54906b6
CATEGORIES:CeNS Seminar
CREATED:20170703T064140
SUMMARY:Seminar on Self-assembly of simple tiny molecules to exhibit unusual mesomorphic properties
LOCATION:LECTURE HALL
DESCRIPTION;ENCODING=QUOTED-PRINTABLE:Self-assembly of simple tiny molecules to exhibit unusual mesomorphic prope
 rties\nby\nDr. Veena Prasad \non\nFriday, 27 November 2015\nTime:&nbsp;3.30
  P.M.\nVenue: Lecture Hall\n This event was imported from: https://cens.res
 .in/hi/events/eventdetail/35/-/seminar-on-self-assembly-of-simple-tiny-mole
 cules-to-exhibit-unusual-mesomorphic-properties?tmpl=component
DTSTAMP:20260423T143454Z
DTSTART;TZID=Indian/Mahe:20151127T153000
SEQUENCE:0
TRANSP:OPAQUE
END:VEVENT
END:VCALENDAR