BEGIN:VCALENDAR
VERSION:2.0
PRODID:-//jEvents 2.0 for Joomla//EN
CALSCALE:GREGORIAN
METHOD:PUBLISH
BEGIN:VTIMEZONE
TZID:Indian/Mahe
BEGIN:STANDARD
DTSTART:20141118T153000
RDATE:20380119T071407
TZOFFSETFROM:+0400
TZOFFSETTO:+0400
TZNAME:Indian/Mahe +04
END:STANDARD
END:VTIMEZONE
BEGIN:VEVENT
UID:25a215a90364b12e74650a9312491bcd
CATEGORIES:CeNS Seminar
CREATED:20170703T063811
SUMMARY:Seminar on Flow induced nonequilibrium self-assembly of nanostructured materials
LOCATION:LECTURE HALL
DESCRIPTION;ENCODING=QUOTED-PRINTABLE:Flow induced nonequilibrium self-assembly of nanostructured materials\nby\n
 Dr. Rema Krishnaswamy\nDepartment of Physics\n Indian Institute of Science,
  Bengaluru\non\nThursday, 19 November 2015\nTime:&nbsp;3.30 P.M.\nVenue: Le
 cture Hall\n This event was imported from: https://cens.res.in/hi/events/ev
 entdetail/34/-/seminar-on-flow-induced-nonequilibrium-self-assembly-of-nano
 structured-materials?tmpl=component
DTSTAMP:20260423T143453Z
DTSTART;TZID=Indian/Mahe:20151119T153000
SEQUENCE:0
TRANSP:OPAQUE
END:VEVENT
END:VCALENDAR