BEGIN:VCALENDAR
VERSION:2.0
PRODID:-//jEvents 2.0 for Joomla//EN
CALSCALE:GREGORIAN
METHOD:PUBLISH
BEGIN:VTIMEZONE
TZID:Indian/Mahe
BEGIN:STANDARD
DTSTART:20141116T153000
RDATE:20380119T071407
TZOFFSETFROM:+0400
TZOFFSETTO:+0400
TZNAME:Indian/Mahe +04
END:STANDARD
END:VTIMEZONE
BEGIN:VEVENT
UID:3f450283d7fb5442493e4e466d4d1e2a
CATEGORIES:CeNS Seminar
CREATED:20170703T063502
SUMMARY:Seminar on Elongated particles on different length scales
LOCATION:LECTURE HALL
DESCRIPTION;ENCODING=QUOTED-PRINTABLE:Elongated particles on different length scales\nby\nDr. Balazs Szabo\nWigne
 r Research Centre for Physics Budapest,\nHungary\non\nTuesday, 17 November 
 2015\nTime:&nbsp;3.30 P.M.\nVenue: Lecture Hall\n This event was imported f
 rom: https://cens.res.in/hi/events/eventdetail/33/-/seminar-on-elongated-pa
 rticles-on-different-length-scales?tmpl=component
DTSTAMP:20260423T143447Z
DTSTART;TZID=Indian/Mahe:20151117T153000
SEQUENCE:0
TRANSP:OPAQUE
END:VEVENT
END:VCALENDAR