BEGIN:VCALENDAR
VERSION:2.0
PRODID:-//jEvents 2.0 for Joomla//EN
CALSCALE:GREGORIAN
METHOD:PUBLISH
BEGIN:VTIMEZONE
TZID:Indian/Mahe
BEGIN:STANDARD
DTSTART:20200604T153000
RDATE:20380119T071407
TZOFFSETFROM:+0400
TZOFFSETTO:+0400
TZNAME:Indian/Mahe +04
END:STANDARD
END:VTIMEZONE
BEGIN:VEVENT
UID:aa1b621bb6c8b75eeaf528b2f0e7582c
CATEGORIES:Special Events
CREATED:20210601T162225
SUMMARY:Let the park be green: becoming conscious and proactive to protect our environment
LOCATION:Online
DESCRIPTION;ENCODING=QUOTED-PRINTABLE:Talk\non\nLet the park be green: becoming conscious and proactive to protec
 t our environment\nBy\nDr. Ganesh T.\nATREE, Bengaluru\non\nSaturday,5 Jun,
  2021\nTime: 3:30pm\n\n\n&nbsp;\n\n\n&nbsp;\n This event was imported from:
  https://cens.res.in/hi/events/eventdetail/306/-/let-the-park-be-green-beco
 ming-conscious-and-proactive-to-protect-our-environment?tmpl=component
DTSTAMP:20260421T073912Z
DTSTART;TZID=Indian/Mahe:20210605T153000
SEQUENCE:0
TRANSP:OPAQUE
END:VEVENT
END:VCALENDAR