BEGIN:VCALENDAR
VERSION:2.0
PRODID:-//jEvents 2.0 for Joomla//EN
CALSCALE:GREGORIAN
METHOD:PUBLISH
BEGIN:VTIMEZONE
TZID:Indian/Mahe
BEGIN:STANDARD
DTSTART:20141106T131500
RDATE:20380119T071407
TZOFFSETFROM:+0400
TZOFFSETTO:+0400
TZNAME:Indian/Mahe +04
END:STANDARD
END:VTIMEZONE
BEGIN:VEVENT
UID:496f29a1b05ec94c5d6c9027597e68a7
CATEGORIES:CeNS Seminar
CREATED:20170703T062145
SUMMARY:Seminar on Raman Spectroscopy: Principle, Realization and Application
LOCATION:LECTURE HALL
DESCRIPTION;ENCODING=QUOTED-PRINTABLE:<div style="font-family: Verdana,Helvetica,Arial,sans-serif; font-size: 16p
 x; line-height: 1.6; width: 70%; float: left; text-align: justify; margin-t
 op: 20px;"><p style="text-align: center;">Raman Spectroscopy: Principle, Re
 alization and Application</p><p style="text-align: center;">by</p><p style=
 "text-align: center;"><strong>Prof. Chandrabhas Narayan</strong></p><p styl
 e="text-align: center;">Chemistry and Physics of Materials Unit</p><p style
 ="text-align: center;">Jawaharlal Nehru Centre for Advanced Scientific Rese
 arch</p><p style="text-align: center;">on</p><p style="text-align: center;"
 >Saturday, 7 November 2015</p><p style="text-align: center;">Time:&nbsp;1.1
 5 P.M.</p><p style="text-align: center;">Venue: Lecture Hall</p></div> This
  event was imported from: https://cens.res.in/hi/events/eventdetail/30/-/se
 minar-on-raman-spectroscopy-principle-realization-and-application?tmpl=comp
 onent
DTSTAMP:20260423T144206Z
DTSTART;TZID=Indian/Mahe:20151107T131500
SEQUENCE:0
TRANSP:OPAQUE
END:VEVENT
END:VCALENDAR