BEGIN:VCALENDAR
VERSION:2.0
PRODID:-//jEvents 2.0 for Joomla//EN
CALSCALE:GREGORIAN
METHOD:PUBLISH
BEGIN:VTIMEZONE
TZID:Indian/Mahe
BEGIN:STANDARD
DTSTART:20191127T153000
RDATE:20380119T071407
TZOFFSETFROM:+0400
TZOFFSETTO:+0400
TZNAME:Indian/Mahe +04
END:STANDARD
END:VTIMEZONE
BEGIN:VEVENT
UID:e5054e63e699d288bfa879b3c31c07f0
CATEGORIES:JAS
CREATED:20201127T111821
SUMMARY:Highly Stretchable Photonic Crystal Hydrogels for a Sensitive Mechanochromic Sensor and Direct Ink Writing
DESCRIPTION;ENCODING=QUOTED-PRINTABLE:JAS-1\n\nTitle:Highly Stretchable Photonic Crystal Hydrogels for a Sensitiv
 e&nbsp;Mechanochromic Sensor and Direct Ink Writing\n                      
                                                          Author: Jiayao Che
 n, Lirong Xu, Meijia Yang, Xiaochuan Chen, Xudong Chen,&nbsp; and Wei Hong\
 n                                                                          
                                             DOI:10.1021/acs.chemmater.9b029
 61by\nMs.&nbsp;Nurjahan Khatun\non\nFriday, 27 Nov 2020\nTime: 3:30 P M\n T
 his event was imported from: https://cens.res.in/hi/events/eventdetail/274/
 -/highly-stretchable-photonic-crystal-hydrogels-for-a-sensitive-mechanochro
 mic-sensor-and-direct-ink-writing?tmpl=component
DTSTAMP:20260423T201153Z
DTSTART;TZID=Indian/Mahe:20201127T153000
DTEND;TZID=Indian/Mahe:20201127T160000
SEQUENCE:0
TRANSP:OPAQUE
END:VEVENT
END:VCALENDAR