BEGIN:VCALENDAR
VERSION:2.0
PRODID:-//jEvents 2.0 for Joomla//EN
CALSCALE:GREGORIAN
METHOD:PUBLISH
BEGIN:VTIMEZONE
TZID:Indian/Mahe
BEGIN:STANDARD
DTSTART:20180829T110000
RDATE:20380119T071407
TZOFFSETFROM:+0400
TZOFFSETTO:+0400
TZNAME:Indian/Mahe +04
END:STANDARD
END:VTIMEZONE
BEGIN:VEVENT
UID:e74ded7f02937371269603e71db611c8
CATEGORIES:JAS
CREATED:20190826T134804
SUMMARY:JAS-2  Experimental evidence for bipolaron condensation as a mechanism for the metal-insulator transition in rare-earth nickelates
LOCATION:Lecture Hall
DESCRIPTION;ENCODING=QUOTED-PRINTABLE:<div style="text-align: center;"><span style="font-size: 12pt;"><strong>JAS
 -2</strong></span></div><div style="text-align: center;">&nbsp;</div><div s
 tyle="text-align: center;"><span style="font-size: 12pt;"><strong>"Experime
 ntal evidence for bipolaron condensation as a mechanism for the</strong></s
 pan></div><div style="text-align: center;"><span style="font-size: 12pt;"><
 strong>metal-insulator transition in rare-earth nickelates"</strong>&nbsp;<
 /span></div><div style="text-align: center;">Jacob Shamblin, Maximilian Her
 es, Haidong Zhou, Joshua Sangoro, Maik Lang,</div><div style="text-align: c
 enter;">Joerg Neuefeind, J.A. Alonso &amp; Steven Johnston, published in Na
 t. Commun.,</div><div style="text-align: center;">9 (2018) 86.</div><div st
 yle="text-align: center;">(DOI: 10.1038/s41467-017-02561-6).</div><div styl
 e="text-align: center;">&nbsp;</div><div style="text-align: center;"><span 
 style="font-size: 10pt;">By</span></div><div style="text-align: center;"><s
 trong><span style="font-size: 12pt;"></span></strong></div><div style="text
 -align: center;"><strong><span style="font-size: 12pt;">Subir Roy</span></s
 trong></div><div style="text-align: center;">&nbsp;</div><div style="text-a
 lign: center;"><span style="font-size: 10pt;">On</span></div><div style="te
 xt-align: center;"><span style="font-size: 10pt;"></span></div><div style="
 text-align: center;"><span style="font-size: 10pt;">Friday, 30 August 2019<
 /span></div><div style="text-align: center;"><span style="font-size: 10pt;"
 >Time: 11.00 A.M.</span></div><div style="text-align: center;"><span style=
 "font-size: 10pt;">Venue: Lecture Hall</span></div> This event was imported
  from: https://cens.res.in/hi/events/eventdetail/236/-/jas-2-experimental-e
 vidence-for-bipolaron-condensation-as-a-mechanism-for-the-metal-insulator-t
 ransition-in-rare-earth-nickelates?tmpl=component
DTSTAMP:20260423T225222Z
DTSTART;TZID=Indian/Mahe:20190830T110000
DTEND;TZID=Indian/Mahe:20190830T120000
SEQUENCE:0
TRANSP:OPAQUE
END:VEVENT
END:VCALENDAR