BEGIN:VCALENDAR
VERSION:2.0
PRODID:-//jEvents 2.0 for Joomla//EN
CALSCALE:GREGORIAN
METHOD:PUBLISH
BEGIN:VTIMEZONE
TZID:Indian/Mahe
BEGIN:STANDARD
DTSTART:20170514T153000
RDATE:20380119T071407
TZOFFSETFROM:+0400
TZOFFSETTO:+0400
TZNAME:Indian/Mahe +04
END:STANDARD
END:VTIMEZONE
BEGIN:VEVENT
UID:3765696d12605ab5c202eb64dcd70310
CATEGORIES:Special Events
CREATED:20180508T145909
SUMMARY:A lecture on “Plastic Waste Management”
LOCATION:Lecture Hall
DESCRIPTION;ENCODING=QUOTED-PRINTABLE:<p style="text-align: center;">A lecture on “<strong>Plastic Waste Manageme
 nt</strong>”</p><p style="text-align: center;">by</p><p style="text-align: 
 center;"><strong>Dr. Manjunatha M</strong><br />Research Scientist, EMPRI, 
 Bangalore</p><p style="text-align: center;">on</p><p style="text-align: cen
 ter;">Tuesday, 15 May 2018</p><p style="text-align: center;">Time: 3.30 P.M
 </p><p style="text-align: center;"><strong>Venue:&nbsp;</strong>Lecture Hal
 l</p> This event was imported from: https://cens.res.in/hi/events/eventdeta
 il/182/-/a-lecture-on-plastic-waste-management?tmpl=component
DTSTAMP:20260423T213725Z
DTSTART;TZID=Indian/Mahe:20180515T153000
DTEND;TZID=Indian/Mahe:20180515T170000
SEQUENCE:0
TRANSP:OPAQUE
END:VEVENT
END:VCALENDAR