BEGIN:VCALENDAR
VERSION:2.0
PRODID:-//jEvents 2.0 for Joomla//EN
CALSCALE:GREGORIAN
METHOD:PUBLISH
BEGIN:VTIMEZONE
TZID:Indian/Mahe
BEGIN:STANDARD
DTSTART:20170509T153000
RDATE:20380119T071407
TZOFFSETFROM:+0400
TZOFFSETTO:+0400
TZNAME:Indian/Mahe +04
END:STANDARD
END:VTIMEZONE
BEGIN:VEVENT
UID:fd3461a2f49a3da849a019e879938e66
CATEGORIES:Special Events
CREATED:20180508T145313
SUMMARY:Short-presentation on “Cleaning and Hygiene”
LOCATION:Lecture Hall
DESCRIPTION;ENCODING=QUOTED-PRINTABLE:<p style="text-align: center;"><strong>Short-presentation&nbsp; (5 min.) co
 mpetition on&nbsp;“<strong>Cleaning and Hygiene</strong>”</strong></p><p st
 yle="text-align: center;">by</p><p style="text-align: center;">students and
  staff members</p><p style="text-align: center;">on</p><p style="text-align
 : center;">Thursday, 10 May 2018</p><p style="text-align: center;">Time: 3.
 30 P.M.</p><p style="text-align: center;"><strong>Venue:&nbsp;</strong>Lect
 ure Hall</p> This event was imported from: https://cens.res.in/hi/events/ev
 entdetail/180/-/short-presentation-on-cleaning-and-hygiene?tmpl=component
DTSTAMP:20260423T213110Z
DTSTART;TZID=Indian/Mahe:20180510T153000
DTEND;TZID=Indian/Mahe:20180510T164500
SEQUENCE:0
TRANSP:OPAQUE
END:VEVENT
END:VCALENDAR