BEGIN:VCALENDAR
VERSION:2.0
PRODID:-//jEvents 2.0 for Joomla//EN
CALSCALE:GREGORIAN
METHOD:PUBLISH
BEGIN:VTIMEZONE
TZID:Indian/Mahe
BEGIN:STANDARD
DTSTART:20161029T113000
RDATE:20380119T071407
TZOFFSETFROM:+0400
TZOFFSETTO:+0400
TZNAME:Indian/Mahe +04
END:STANDARD
END:VTIMEZONE
BEGIN:VEVENT
UID:a75311d938c340e311b6aeaca8b66ea8
CATEGORIES:Special Events
CREATED:20171025T155718
SUMMARY:Coupling of Elementary Electronic Excitations: Drawing Parallels Between Excitons and Plasmons
LOCATION:Lecture Hall
DESCRIPTION;ENCODING=QUOTED-PRINTABLE:Coupling of Elementary Electronic Excitations: Drawing Parallels Between Ex
 citons and Plasmons\nby\nProf. K. George Thomas\nIISER, Thiruvananthapuram\
 non\nMonday,30 Oct 2017\nTime: 11:30 A.M\n\n\n&nbsp;\n This event was impor
 ted from: https://cens.res.in/hi/events/eventdetail/147/-/coupling-of-eleme
 ntary-electronic-excitations-drawing-parallels-between-excitons-and-plasmon
 s?tmpl=component
DTSTAMP:20260421T074011Z
DTSTART;TZID=Indian/Mahe:20171030T113000
DTEND;TZID=Indian/Mahe:20171030T130000
SEQUENCE:0
TRANSP:OPAQUE
END:VEVENT
END:VCALENDAR