BEGIN:VCALENDAR
VERSION:2.0
PRODID:-//jEvents 2.0 for Joomla//EN
CALSCALE:GREGORIAN
METHOD:PUBLISH
BEGIN:VTIMEZONE
TZID:Indian/Mahe
BEGIN:STANDARD
DTSTART:20140731T000000
RDATE:20380119T071407
TZOFFSETFROM:+0400
TZOFFSETTO:+0400
TZNAME:Indian/Mahe +04
END:STANDARD
END:VTIMEZONE
BEGIN:VEVENT
UID:7c343035674484abeb4b46daff6fca24
CATEGORIES:Outreach V4
CREATED:20170630T130816
SUMMARY:Launching of V4
LOCATION:CENS - AUDITORIUM
DESCRIPTION;ENCODING=QUOTED-PRINTABLE:\n\nThe V4: Science Programme @ CeNS was formally launched on August 1, 201
 5 by the Director of the Centre. Students from the High School section of B
 EL Composite P.U. College took part in the event. Prof. H. L. Bhat gave a l
 ecture-demonstration on "Science and Technology of Lasers". The Ph.D schola
 rs of the Centre explained and demonstrated to the visiting students variou
 s optical phenomena such as reflection, refraction, diffraction and polariz
 ation of light. The school students also experienced the protocols employed
  in the synthesis of nanoparticles.\n This event was imported from: https:/
 /cens.res.in/hi/events/eventdetail/11/-/launching-of-v4?tmpl=component
DTSTAMP:20260421T073808Z
DTSTART;TZID=Indian/Mahe;VALUE=DATE:20150801
DTEND;TZID=Indian/Mahe;VALUE=DATE:20150802
SEQUENCE:0
TRANSP:OPAQUE
END:VEVENT
END:VCALENDAR