BEGIN:VCALENDAR
VERSION:2.0
PRODID:-//jEvents 2.0 for Joomla//EN
CALSCALE:GREGORIAN
METHOD:PUBLISH
BEGIN:VTIMEZONE
TZID:Indian/Mahe
BEGIN:STANDARD
DTSTART:20250415T113000
RDATE:20380119T071407
TZOFFSETFROM:+0400
TZOFFSETTO:+0400
TZNAME:Indian/Mahe +04
END:STANDARD
END:VTIMEZONE
BEGIN:VEVENT
UID:0b6ac19bd05604f24dbca774cc194a79
CATEGORIES:Open Defense
CREATED:20260416T123037
SUMMARY:Strategic exploration of Ni-based electrocatalysts to augment hydrogen generation by hybrid water electrolysis
LOCATION:Classroom CeNS
DESCRIPTION;ENCODING=QUOTED-PRINTABLE:<p style="text-align: center;"><strong>Strategic exploration of Ni-based el
 ectrocatalysts to augment hydrogen generation by hybrid water electrolysis<
 /strong></p><p style="text-align: center;"><span style="font-size: 11pt;">b
 y</span></p><p style="text-align: center;"><strong style="font-size: 10pt;"
 >Mr. Nikhil N Rao</strong></p> This event was imported from: https://cens.r
 es.in/hi/about-us/people/eventdetail/538/-/strategic-exploration-of-ni-base
 d-electrocatalysts-to-augment-hydrogen-generation-by-hybrid-water-electroly
 sis?tmpl=component
DTSTAMP:20260421T001508Z
DTSTART;TZID=Indian/Mahe:20260416T113000
SEQUENCE:0
TRANSP:OPAQUE
END:VEVENT
END:VCALENDAR