BEGIN:VCALENDAR
VERSION:2.0
PRODID:-//jEvents 2.0 for Joomla//EN
CALSCALE:GREGORIAN
METHOD:PUBLISH
BEGIN:VTIMEZONE
TZID:Indian/Mahe
BEGIN:STANDARD
DTSTART:20250104T150000
RDATE:20380119T071407
TZOFFSETFROM:+0400
TZOFFSETTO:+0400
TZNAME:Indian/Mahe +04
END:STANDARD
END:VTIMEZONE
BEGIN:VEVENT
UID:ccb2fd0d9906051292f43a001af7725b
CATEGORIES:Cens Colloquium
CREATED:20251231T092035
SUMMARY:Thesis Colloquium - Precursor Engineering for the Synthesis of Low-dimensional Solids for Various Applications
LOCATION:Class Room, CeNS
DESCRIPTION;ENCODING=QUOTED-PRINTABLE:<p style="text-align: center;"><strong style="font-size: 10pt;">Thesis Coll
 oquium (MAHE Synopsis presentation)</strong></p><div id="v1v1v1v1v1v1v1v1fo
 rwardbody1" style="text-align: center;"><div style="font-size: 10pt; font-f
 amily: Verdana, Geneva, sans-serif;"><div id="v1v1v1v1v1v1v1v1v1forwardbody
 1"><div style="font-size: 10pt; font-family: Verdana, Geneva, sans-serif;">
 <div id="v1v1v1v1v1v1v1v1v1v1forwardbody1"><div style="font-size: 10pt; fon
 t-family: Verdana, Geneva, sans-serif;"><div id="v1v1v1v1v1v1v1v1v1v1v1v1fo
 rwardbody1"><div style="font-size: 10pt; font-family: Verdana, Geneva, sans
 -serif;"><div id="v1v1v1v1v1v1v1v1v1v1v1v1v1forwardbody1"><div style="font-
 size: 10pt; font-family: Verdana, Geneva, sans-serif;"><div id="v1v1v1v1v1v
 1v1v1v1v1v1v1v1v1forwardbody1"><div style="font-size: 10pt; font-family: Ve
 rdana, Geneva, sans-serif;"><div class="v1v1v1v1v1v1v1v1v1v1v1v1v1v1v1rcmBo
 dy" style="font-size: 10pt; font-family: Verdana, Geneva, sans-serif;"><div
  id="v1v1v1v1v1v1v1v1v1v1v1v1v1v1v1v1forwardbody1"><div style="font-size: 1
 0pt; font-family: Verdana, Geneva, sans-serif;"><div id="v1v1v1v1v1v1v1v1v1
 v1v1v1v1v1v1v1v1forwardbody1"><div style="font-size: 10pt; font-family: Ver
 dana, Geneva, sans-serif;"><p><strong>Topic</strong>: "Precursor Engineerin
 g for the Synthesis of Low-dimensional Solids for Various Applications"</p>
 <p>by</p><p><strong>Mr. Rahul Singh</strong></p><br /><p>Venue: Class Room,
  CeNS</p></div></div></div></div></div></div></div></div></div></div></div>
 </div></div></div></div></div></div> This event was imported from: https://
 cens.res.in/hi/about-us/people/eventdetail/534/-/thesis-colloquium-precurso
 r-engineering-for-the-synthesis-of-low-dimensional-solids-for-various-appli
 cations?tmpl=component
DTSTAMP:20260421T003001Z
DTSTART;TZID=Indian/Mahe:20260105T150000
SEQUENCE:0
TRANSP:OPAQUE
END:VEVENT
END:VCALENDAR