BEGIN:VCALENDAR
VERSION:2.0
PRODID:-//jEvents 2.0 for Joomla//EN
CALSCALE:GREGORIAN
METHOD:PUBLISH
BEGIN:VTIMEZONE
TZID:Indian/Mahe
BEGIN:STANDARD
DTSTART:20240212T113000
RDATE:20380119T071407
TZOFFSETFROM:+0400
TZOFFSETTO:+0400
TZNAME:Indian/Mahe +04
END:STANDARD
END:VTIMEZONE
BEGIN:VEVENT
UID:d3d4c5a5fa040410b8bf633b3e69b633
CATEGORIES:Lecture
CREATED:20250212T135807
SUMMARY:Ultrafast Plasmon Dynamics in Non-stoichiometric near Infrared Active Semiconductor Nanocrystals
LOCATION:Classroom
DESCRIPTION;ENCODING=QUOTED-PRINTABLE:Navyadhara Lecture Series\nUltrafast Plasmon Dynamics in Non-stoichiometric
  near Infrared Active Semiconductor Nanocrystals\nby\nProf. Hirendra N. Gho
 sh, FASc, FNA, FNASc\nDirector, NISER, Bhubaneswar&nbsp;\non\nWednesday, 12
  Feb 2025\nTime:11:30 AM\n\n\n&nbsp;\n This event was imported from: https:
 //cens.res.in/hi/about-us/people/eventdetail/511/-/ultrafast-plasmon-dynami
 cs-in-non-stoichiometric-near-infrared-active-semiconductor-nanocrystals?tm
 pl=component
DTSTAMP:20260421T021237Z
DTSTART;TZID=Indian/Mahe:20250212T113000
DTEND;TZID=Indian/Mahe:20250212T123000
SEQUENCE:0
TRANSP:OPAQUE
END:VEVENT
END:VCALENDAR