BEGIN:VCALENDAR
VERSION:2.0
PRODID:-//jEvents 2.0 for Joomla//EN
CALSCALE:GREGORIAN
METHOD:PUBLISH
BEGIN:VTIMEZONE
TZID:Indian/Mahe
BEGIN:STANDARD
DTSTART:20230913T150000
RDATE:20380119T071407
TZOFFSETFROM:+0400
TZOFFSETTO:+0400
TZNAME:Indian/Mahe +04
END:STANDARD
END:VTIMEZONE
BEGIN:VEVENT
UID:c10115502d8ae19a31ec953e4bb9f998
CATEGORIES:JAS
CREATED:20240905T091347
SUMMARY:Synthesis, structure, and properties of CuBiSeCl2: A chalcohalide material with low thermal conductivity
LOCATION:Classroom
DESCRIPTION;ENCODING=QUOTED-PRINTABLE:<p style="margin: 0px 0px 10px; color: #444444; font-family: Verdana, Helve
 tica, Arial, sans-serif; font-size: 16px; font-style: normal; font-weight: 
 400; letter-spacing: normal; orphans: 2; text-indent: 0px; text-transform: 
 none; widows: 2; word-spacing: 0px; white-space: normal; text-align: center
 ;"><span style="font-family: 'book antiqua', palatino;"><strong style="font
 -weight: bold;">JAS -2</strong></span></p><p style="margin: 0px 0px 10px; c
 olor: #444444; font-family: Verdana, Helvetica, Arial, sans-serif; font-siz
 e: 16px; font-style: normal; font-weight: 400; letter-spacing: normal; orph
 ans: 2; text-indent: 0px; text-transform: none; widows: 2; word-spacing: 0p
 x; white-space: normal; text-align: center;"><span style="font-size: 12pt; 
 font-family: 'book antiqua', palatino;">by</span></p><p style="margin: 0px 
 0px 10px; color: #444444; font-family: Verdana, Helvetica, Arial, sans-seri
 f; font-size: 16px; font-style: normal; font-weight: 400; letter-spacing: n
 ormal; orphans: 2; text-indent: 0px; text-transform: none; widows: 2; word-
 spacing: 0px; white-space: normal; text-align: center;"><span style="font-s
 ize: 12pt; font-family: 'book antiqua', palatino;"><strong style="font-weig
 ht: bold;"><span style="color: #2c363a; font-style: normal; letter-spacing:
  normal; orphans: 2; text-align: left; text-indent: 0px; text-transform: no
 ne; widows: 2; word-spacing: 0px; white-space: normal; background-color: #f
 fffff; float: none;"><span style="font-family: 'book antiqua', palatino;"><
 strong style="font-weight: bold;"><span style="color: #2c363a; font-size: 1
 3.3333px; font-style: normal; letter-spacing: normal; orphans: 2; text-alig
 n: left; text-indent: 0px; text-transform: none; widows: 2; word-spacing: 0
 px; white-space: normal; background-color: #ffffff; float: none;"><span sty
 le="font-size: 14pt;"></span></span></strong></span></span></strong></span>
 <span style="font-size: 14pt; font-family: 'book antiqua', palatino;"><stro
 ng><span style="color: #2c363a; font-style: normal; letter-spacing: normal;
  orphans: 2; text-align: left; text-indent: 0px; text-transform: none; wido
 ws: 2; word-spacing: 0px; white-space: normal; background-color: #ffffff; f
 loat: none;"><span style="color: #2c363a; font-style: normal; letter-spacin
 g: normal; orphans: 2; text-align: left; text-indent: 0px; text-transform: 
 none; widows: 2; word-spacing: 0px; white-space: normal; background-color: 
 #ffffff; float: none;"><span style="color: #2c363a; font-style: normal; let
 ter-spacing: normal; orphans: 2; text-align: left; text-indent: 0px; text-t
 ransform: none; widows: 2; word-spacing: 0px; white-space: normal; backgrou
 nd-color: #ffffff; float: none;">Mr.&nbsp;</span></span></span></strong></s
 pan><span style="font-size: 12pt; font-family: 'book antiqua', palatino;"><
 strong style="font-weight: bold;"><span style="color: #2c363a; font-style: 
 normal; letter-spacing: normal; orphans: 2; text-align: left; text-indent: 
 0px; text-transform: none; widows: 2; word-spacing: 0px; white-space: norma
 l; background-color: #ffffff; float: none;"><span style="font-size: 14pt; f
 ont-family: 'book antiqua', palatino;"><strong><span style="color: #2c363a;
  font-style: normal; letter-spacing: normal; orphans: 2; text-align: left; 
 text-indent: 0px; text-transform: none; widows: 2; word-spacing: 0px; white
 -space: normal; background-color: #ffffff; float: none;"><span style="color
 : #2c363a; font-style: normal; letter-spacing: normal; orphans: 2; text-ali
 gn: left; text-indent: 0px; text-transform: none; widows: 2; word-spacing: 
 0px; white-space: normal; background-color: #ffffff;">Abhishek Roy</span></
 span></strong></span><strong style="font-weight: bold;"><span style="color:
  #2c363a; font-family: Verdana, Geneva, sans-serif; font-size: 13.3333px; f
 ont-style: normal; letter-spacing: normal; orphans: 2; text-align: left; te
 xt-indent: 0px; text-transform: none; widows: 2; word-spacing: 0px; white-s
 pace: normal; background-color: #ffffff; float: none;"><span style="color: 
 #444444; font-family: Verdana, Helvetica, Arial, sans-serif; font-size: 16p
 x; font-style: normal; font-weight: 400; letter-spacing: normal; orphans: 2
 ; text-align: center; text-indent: 0px; text-transform: none; widows: 2; wo
 rd-spacing: 0px; white-space: normal; background-color: rgba(255, 255, 255,
  0.9); float: none;"><br /></span></span></strong></span></strong></span></
 p><p style="margin: 0px 0px 10px; color: #444444; font-family: Verdana, Hel
 vetica, Arial, sans-serif; font-size: 16px; font-style: normal; font-weight
 : 400; letter-spacing: normal; orphans: 2; text-indent: 0px; text-transform
 : none; widows: 2; word-spacing: 0px; white-space: normal; text-align: cent
 er;"><span style="font-family: 'book antiqua', palatino;"><span style="font
 -size: 14pt;"><strong style="font-weight: bold;">Title: <span style="color:
  #2c363a; font-family: Verdana, Geneva, sans-serif; font-size: 13.3333px; f
 ont-style: normal; font-weight: 400; letter-spacing: normal; orphans: 2; te
 xt-align: left; text-indent: 0px; text-transform: none; widows: 2; word-spa
 cing: 0px; white-space: normal; background-color: #ffffff; float: none;">Sy
 nthesis, Structure, and Properties of CuBiSeCl</span><sub style="position: 
 relative; font-size: 10px; line-height: 0; vertical-align: baseline; bottom
 : -0.25em; color: #2c363a; font-family: Verdana, Geneva, sans-serif; font-s
 tyle: normal; font-weight: 400; letter-spacing: normal; orphans: 2; text-al
 ign: left; text-indent: 0px; text-transform: none; widows: 2; word-spacing:
  0px; white-space: normal; background-color: #ffffff;">2</sub><span style="
 color: #2c363a; font-family: Verdana, Geneva, sans-serif; font-size: 13.333
 3px; font-style: normal; font-weight: 400; letter-spacing: normal; orphans:
  2; text-align: left; text-indent: 0px; text-transform: none; widows: 2; wo
 rd-spacing: 0px; white-space: normal; background-color: #ffffff; float: non
 e;">: A Chalcohalide Material with Low Thermal Conductivity</span></strong>
 <span style="font-family: 'book antiqua', palatino; font-size: 12pt;"><em s
 tyle="font-style: italic;"><strong style="font-weight: bold;"><span style="
 color: #2c363a; font-style: normal; font-weight: 400; letter-spacing: norma
 l; orphans: 2; text-align: left; text-indent: 0px; text-transform: none; wi
 dows: 2; word-spacing: 0px; white-space: normal; background-color: #ffffff;
  float: none;"><br /></span></strong></em></span></span></span></p><p style
 ="margin: 0px 0px 10px; color: #444444; font-family: Verdana, Helvetica, Ar
 ial, sans-serif; font-size: 16px; font-style: normal; font-weight: 400; let
 ter-spacing: normal; orphans: 2; text-indent: 0px; text-transform: none; wi
 dows: 2; word-spacing: 0px; white-space: normal; text-align: center;"><span
  style="font-family: 'book antiqua', palatino;"><strong style="font-weight:
  bold;">DOI:<a style="color: #008acc; text-decoration: underline; backgroun
 d-color: #ffffff; font-family: Verdana, Geneva, sans-serif; font-size: 13.3
 333px; font-style: normal; font-weight: 400; letter-spacing: normal; orphan
 s: 2; text-align: left; text-indent: 0px; text-transform: none; widows: 2; 
 word-spacing: 0px; white-space: normal;" title="DOI URL" href="https://doi.
 org/10.1021/acs.chemmater.4c00188" target="_blank" rel="noopener noreferrer
 ">https://doi.org/10.1021/acs.chemmater.4c00188</a><a style="color: #00acff
 ; text-decoration: none; background-color: #ffffff; font-family: arial, hel
 vetica, sans-serif; font-size: 14.6667px; font-style: normal; font-weight: 
 400; letter-spacing: normal; orphans: 2; text-align: left; text-indent: 0px
 ; text-transform: none; widows: 2; word-spacing: 0px; white-space: normal;"
  href="https://doi.org/10.1038/s41467-022-34319-0" target="_blank" rel="noo
 pener noreferrer"><br /></a></strong></span></p><p style="margin: 0px 0px 1
 0px; color: #444444; font-family: Verdana, Helvetica, Arial, sans-serif; fo
 nt-size: 16px; font-style: normal; font-weight: 400; letter-spacing: normal
 ; orphans: 2; text-indent: 0px; text-transform: none; widows: 2; word-spaci
 ng: 0px; white-space: normal; text-align: center;"><strong style="font-weig
 ht: bold; font-family: 'book antiqua', palatino;">Date:&nbsp;&nbsp;</strong
 ><span style="font-family: 'book antiqua', palatino;">Sep<span style="font-
 size: 12pt;"><span style="font-family: 'book antiqua', palatino;">&nbsp;13,
 </span>&nbsp;2024</span></span></p><p style="margin: 0px 0px 10px; color: #
 444444; font-family: Verdana, Helvetica, Arial, sans-serif; font-size: 16px
 ; font-style: normal; font-weight: 400; letter-spacing: normal; orphans: 2;
  text-indent: 0px; text-transform: none; widows: 2; word-spacing: 0px; whit
 e-space: normal; text-align: center;"><span style="font-family: 'book antiq
 ua', palatino;"><strong style="font-weight: bold;">Time:&nbsp;</strong>3:00
  PM</span></p> This event was imported from: https://cens.res.in/hi/about-u
 s/people/eventdetail/499/-/synthesis-structure-and-properties-of-cubisecl2-
 a-chalcohalide-material-with-low-thermal-conductivity?tmpl=component
DTSTAMP:20260421T101548Z
DTSTART;TZID=Indian/Mahe:20240913T150000
DTEND;TZID=Indian/Mahe:20240913T170000
SEQUENCE:0
TRANSP:OPAQUE
END:VEVENT
END:VCALENDAR