BEGIN:VCALENDAR
VERSION:2.0
PRODID:-//jEvents 2.0 for Joomla//EN
CALSCALE:GREGORIAN
METHOD:PUBLISH
BEGIN:VTIMEZONE
TZID:Indian/Mahe
BEGIN:STANDARD
DTSTART:20220126T150000
RDATE:20380119T071407
TZOFFSETFROM:+0400
TZOFFSETTO:+0400
TZNAME:Indian/Mahe +04
END:STANDARD
END:VTIMEZONE
BEGIN:VEVENT
UID:4c0b863cf6dcdebf6e4bf12ae23892c6
CATEGORIES:Thematic Seminar
CREATED:20230124T075444
SUMMARY:Developments in the field of explosive trace detection
LOCATION:Classroom
DESCRIPTION;ENCODING=QUOTED-PRINTABLE:Thematic Seminar\nDevelopments in the field of explosive trace detection\nb
 y\nMuhammed Safeer N.K.\non\nFriday, 27 January 2023\nTime: 3:00 P M\n This
  event was imported from: https://cens.res.in/hi/about-us/people/eventdetai
 l/409/-/developments-in-the-field-of-explosive-trace-detection?tmpl=compone
 nt
DTSTAMP:20260421T083326Z
DTSTART;TZID=Indian/Mahe:20230127T150000
DTEND;TZID=Indian/Mahe:20230127T170000
SEQUENCE:0
TRANSP:OPAQUE
END:VEVENT
END:VCALENDAR