BEGIN:VCALENDAR
VERSION:2.0
PRODID:-//jEvents 2.0 for Joomla//EN
CALSCALE:GREGORIAN
METHOD:PUBLISH
BEGIN:VTIMEZONE
TZID:Indian/Mahe
BEGIN:STANDARD
DTSTART:20220109T110000
RDATE:20380119T071407
TZOFFSETFROM:+0400
TZOFFSETTO:+0400
TZNAME:Indian/Mahe +04
END:STANDARD
END:VTIMEZONE
BEGIN:VEVENT
UID:c63373357f4f1c6a827a9485a0c624c8
CATEGORIES:Cens Colloquium
CREATED:20230105T114404
SUMMARY:Studies on thin films of some amphiphilic mesogenic molecules at interfaces
LOCATION:Classroom
DESCRIPTION;ENCODING=QUOTED-PRINTABLE:<p style="margin: 0px 0px 10px; font-style: normal; font-weight: 400; lette
 r-spacing: normal; orphans: 2; text-indent: 0px; text-transform: none; whit
 e-space: normal; widows: 2; word-spacing: 0px; color: #333333; font-family:
  Verdana, Geneva, sans-serif; font-size: 13.3333px; text-align: center;"><e
 m style="font-style: italic;">Open Defense and viva-voce examination&nbsp;<
 /em><em style="font-style: italic;">of Ph.D. thesis entitled</em></p><p sty
 le="margin: 0px 0px 10px; font-style: normal; font-weight: 400; letter-spac
 ing: normal; orphans: 2; text-indent: 0px; text-transform: none; white-spac
 e: normal; widows: 2; word-spacing: 0px; color: #333333; font-family: Verda
 na, Geneva, sans-serif; font-size: 13.3333px; text-align: center;"><span st
 yle="font-size: 12pt;"><strong><span style="color: #2c363a; font-family: Ve
 rdana, Geneva, sans-serif; font-style: normal; letter-spacing: normal; orph
 ans: 2; text-align: left; text-indent: 0px; text-transform: none; white-spa
 ce: normal; widows: 2; word-spacing: 0px; background-color: #ffffff; float:
  none;">Studies on thin films of some amphiphilic mesogenic molecules at in
 terfaces</span></strong></span></p><p style="margin: 0px 0px 10px; font-sty
 le: normal; font-weight: 400; letter-spacing: normal; orphans: 2; text-inde
 nt: 0px; text-transform: none; white-space: normal; widows: 2; word-spacing
 : 0px; color: #333333; font-family: Verdana, Geneva, sans-serif; font-size:
  13.3333px; text-align: center;">&nbsp;By</p><p style="margin: 0px 0px 10px
 ; font-style: normal; font-weight: 400; letter-spacing: normal; orphans: 2;
  text-indent: 0px; text-transform: none; white-space: normal; widows: 2; wo
 rd-spacing: 0px; color: #333333; font-family: Verdana, Geneva, sans-serif; 
 font-size: 13.3333px; text-align: center;">&nbsp;<strong style="font-weight
 : bold;">Ms. Pinchu Xavier</strong></p><p style="margin: 0px 0px 10px; font
 -style: normal; font-weight: 400; letter-spacing: normal; orphans: 2; text-
 indent: 0px; text-transform: none; white-space: normal; widows: 2; word-spa
 cing: 0px; color: #333333; font-family: Verdana, Geneva, sans-serif; font-s
 ize: 13.3333px; text-align: center;">&nbsp;<span style="font-size: 12pt;">o
 n</span></p><p style="margin: 0px 0px 10px; font-style: normal; font-weight
 : 400; letter-spacing: normal; orphans: 2; text-indent: 0px; text-transform
 : none; white-space: normal; widows: 2; word-spacing: 0px; color: #333333; 
 font-family: Verdana, Geneva, sans-serif; font-size: 13.3333px; text-align:
  center;">&nbsp;<strong>Tuesday, 10 January 2023</strong></p><p style="marg
 in: 0px 0px 10px; font-style: normal; font-weight: 400; letter-spacing: nor
 mal; orphans: 2; text-indent: 0px; text-transform: none; white-space: norma
 l; widows: 2; word-spacing: 0px; color: #333333; font-family: Verdana, Gene
 va, sans-serif; font-size: 13.3333px; text-align: center;"><strong style="f
 ont-weight: bold;">&nbsp;Time: 11:00 A.M</strong>.</p> This event was impor
 ted from: https://cens.res.in/hi/about-us/people/eventdetail/406/-/studies-
 on-thin-films-of-some-amphiphilic-mesogenic-molecules-at-interfaces?tmpl=co
 mponent
DTSTAMP:20260421T083340Z
DTSTART;TZID=Indian/Mahe:20230110T110000
DTEND;TZID=Indian/Mahe:20230110T130000
SEQUENCE:0
TRANSP:OPAQUE
END:VEVENT
END:VCALENDAR