BEGIN:VCALENDAR
VERSION:2.0
PRODID:-//jEvents 2.0 for Joomla//EN
CALSCALE:GREGORIAN
METHOD:PUBLISH
BEGIN:VTIMEZONE
TZID:Indian/Mahe
BEGIN:STANDARD
DTSTART:20160504T153000
RDATE:20380119T071407
TZOFFSETFROM:+0400
TZOFFSETTO:+0400
TZNAME:Indian/Mahe +04
END:STANDARD
END:VTIMEZONE
BEGIN:VEVENT
UID:8c33dab9c824a7cd8339e7af98514274
CATEGORIES:CeNS Seminar
CREATED:20170703T091807
SUMMARY:Seminar on Advancements in Field of Transmission Electron Microscopy
LOCATION:LECTURE HALL
DESCRIPTION;ENCODING=QUOTED-PRINTABLE:Seminar on Advancements in Field of Transmission Electron Microscopy\nby\nD
 r. T. Oikawa\nSenior Product Manager, JEOL, Singapore\non\nWednesday, 05 Ma
 y 2017\nTime:&nbsp;3.30 P.M.\nVenue: Lecture Hall\n This event was imported
  from: https://cens.res.in/en/events/eventdetail/93/-/seminar-on-advancemen
 ts-in-field-of-transmission-electron-microscopy?tmpl=component
DTSTAMP:20260421T033052Z
DTSTART;TZID=Indian/Mahe:20170505T153000
SEQUENCE:0
TRANSP:OPAQUE
END:VEVENT
END:VCALENDAR