BEGIN:VCALENDAR
VERSION:2.0
PRODID:-//jEvents 2.0 for Joomla//EN
CALSCALE:GREGORIAN
METHOD:PUBLISH
BEGIN:VTIMEZONE
TZID:Indian/Mahe
BEGIN:STANDARD
DTSTART:20160327T153000
RDATE:20380119T071407
TZOFFSETFROM:+0400
TZOFFSETTO:+0400
TZNAME:Indian/Mahe +04
END:STANDARD
END:VTIMEZONE
BEGIN:VEVENT
UID:587cdaeee153023726f9341e01dfaa17
CATEGORIES:Cens Colloquium
CREATED:20170703T091551
SUMMARY:Thesis Colloquium: Electrical and viscoelastic studies on liquid crystal gels and composites
LOCATION:LECTURE HALL
DESCRIPTION;ENCODING=QUOTED-PRINTABLE:Electrical and viscoelastic studies on liquid crystal gels and composites\n
 by\nMs. Vimala S.\non\nTuesday, 28 March 2017\nTime:&nbsp;3.30 P.M.\nVenue:
  Lecture Hall\n This event was imported from: https://cens.res.in/en/events
 /eventdetail/91/-/thesis-colloquium-electrical-and-viscoelastic-studies-on-
 liquid-crystal-gels-and-composites?tmpl=component
DTSTAMP:20260421T051053Z
DTSTART;TZID=Indian/Mahe:20170328T153000
SEQUENCE:0
TRANSP:OPAQUE
END:VEVENT
END:VCALENDAR