BEGIN:VCALENDAR
VERSION:2.0
PRODID:-//jEvents 2.0 for Joomla//EN
CALSCALE:GREGORIAN
METHOD:PUBLISH
BEGIN:VTIMEZONE
TZID:Indian/Mahe
BEGIN:STANDARD
DTSTART:20160323T153000
RDATE:20380119T071407
TZOFFSETFROM:+0400
TZOFFSETTO:+0400
TZNAME:Indian/Mahe +04
END:STANDARD
END:VTIMEZONE
BEGIN:VEVENT
UID:1deb841b0772e365a0ca26a12c164c02
CATEGORIES:Cens Colloquium
CREATED:20170703T091320
SUMMARY:Speaker of the month Colloquium
LOCATION:LECTURE HALL
DESCRIPTION;ENCODING=QUOTED-PRINTABLE:<div style="font-family: Verdana,Helvetica,Arial,sans-serif; font-size: 16p
 x; line-height: 1.6; width: 70%; float: left; text-align: justify; margin-t
 op: 20px;"><p style="text-align: center;">Plasmonic interactions via small 
 gaps and in three dimensions</p><p style="text-align: center;">by</p><p sty
 le="text-align: center;"><strong>Dr.Ambarish Ghosh</strong></p><p style="te
 xt-align: center;">Associate Professor, Department of Physic,</p><p style="
 text-align: center;">CeNSE IISc, Bengaluru</p><p style="text-align: center;
 ">on</p><p style="text-align: center;">Friday, 24 March 2017</p><p style="t
 ext-align: center;">Time:&nbsp;3.30 P.M.</p><p style="text-align: center;">
 Venue: Lecture Hall</p></div> This event was imported from: https://cens.re
 s.in/en/events/eventdetail/89/-/speaker-of-the-month-colloquium?tmpl=compon
 ent
DTSTAMP:20260421T033850Z
DTSTART;TZID=Indian/Mahe:20170324T153000
SEQUENCE:0
TRANSP:OPAQUE
END:VEVENT
END:VCALENDAR