BEGIN:VCALENDAR
VERSION:2.0
PRODID:-//jEvents 2.0 for Joomla//EN
CALSCALE:GREGORIAN
METHOD:PUBLISH
BEGIN:VTIMEZONE
TZID:Indian/Mahe
BEGIN:STANDARD
DTSTART:20160126T093000
RDATE:20380119T071407
TZOFFSETFROM:+0400
TZOFFSETTO:+0400
TZNAME:Indian/Mahe +04
END:STANDARD
END:VTIMEZONE
BEGIN:VEVENT
UID:80fd2d84a5499debcb4fc20d8651b158
CATEGORIES:Special Events
CREATED:20170703T085449
SUMMARY:Republic Day @ CeNS
LOCATION:CeNS
DESCRIPTION;ENCODING=QUOTED-PRINTABLE:\n\nOn the occasion of the Republic Day on Thursday, January 26, 2017, the 
 National Flag was hoisted by Prof. G. U. Kulkarni,Director.\n\n\n&nbsp;\n\n
 \n&nbsp;\n\n\n&nbsp;\n\n\n&nbsp;\n This event was imported from: https://ce
 ns.res.in/en/events/eventdetail/81/-/republic-day-cens?tmpl=component
DTSTAMP:20260420T212158Z
DTSTART;TZID=Indian/Mahe:20170126T093000
SEQUENCE:0
TRANSP:OPAQUE
END:VEVENT
END:VCALENDAR