BEGIN:VCALENDAR
VERSION:2.0
PRODID:-//jEvents 2.0 for Joomla//EN
CALSCALE:GREGORIAN
METHOD:PUBLISH
BEGIN:VTIMEZONE
TZID:Indian/Mahe
BEGIN:STANDARD
DTSTART:20150413T153000
RDATE:20380119T071407
TZOFFSETFROM:+0400
TZOFFSETTO:+0400
TZNAME:Indian/Mahe +04
END:STANDARD
END:VTIMEZONE
BEGIN:VEVENT
UID:c1f1af663414daa4f479344582727fe5
CATEGORIES:Cens Colloquium
CREATED:20170703T072436
SUMMARY:Thesis Colloquium: AFM and Ellipsometry studies on the Langmuir-Blodgett films of amphiphilic molecules.
LOCATION:LECTURE HALL
DESCRIPTION;ENCODING=QUOTED-PRINTABLE:<div style="font-family: Verdana,Helvetica,Arial,sans-serif; font-size: 16p
 x; line-height: 1.6; width: 70%; float: left; text-align: justify; margin-t
 op: 20px;"><p style="text-align: center;">AFM and Ellipsometry studies on t
 he Langmuir-Blodgett films of amphiphilic molecules.</p><p style="text-alig
 n: center;">by</p><p style="text-align: center;"><strong>Gayathri H.N.</str
 ong></p><p style="text-align: center;">on</p><p style="text-align: center;"
 >Wednesday, 13 April 2016</p><p style="text-align: center;">Time:&nbsp;3.30
  P.M.</p><p style="text-align: center;">Venue: Lecture Hall</p></div> This 
 event was imported from: https://cens.res.in/en/events/eventdetail/51/-/the
 sis-colloquium-afm-and-ellipsometry-studies-on-the-langmuir-blodgett-films-
 of-amphiphilic-molecules?tmpl=component
DTSTAMP:20260420T213101Z
DTSTART;TZID=Indian/Mahe:20160413T153000
SEQUENCE:0
TRANSP:OPAQUE
END:VEVENT
END:VCALENDAR