BEGIN:VCALENDAR
VERSION:2.0
PRODID:-//jEvents 2.0 for Joomla//EN
CALSCALE:GREGORIAN
METHOD:PUBLISH
BEGIN:VTIMEZONE
TZID:Indian/Mahe
BEGIN:STANDARD
DTSTART:20230517T150000
RDATE:20380119T071407
TZOFFSETFROM:+0400
TZOFFSETTO:+0400
TZNAME:Indian/Mahe +04
END:STANDARD
END:VTIMEZONE
BEGIN:VEVENT
UID:ee8e8e2e359ff547c0071491a6d5bccc
CATEGORIES:Special Events
CREATED:20240515T083246
SUMMARY:Photocatalytic water splitting for green hydrogen generation
LOCATION:Classroom
DESCRIPTION;ENCODING=QUOTED-PRINTABLE:<p style="margin: 0px 0px 10px; color: #444444; font-family: Verdana, Helve
 tica, Arial, sans-serif; font-size: 16px; font-style: normal; font-weight: 
 400; letter-spacing: normal; orphans: 2; text-indent: 0px; text-transform: 
 none; widows: 2; word-spacing: 0px; white-space: normal; text-align: center
 ;"><span style="font-size: 14pt; font-family: 'book antiqua', palatino;"><s
 trong style="font-weight: bold;">Thematic Seminar</strong></span></p><p sty
 le="margin: 0px 0px 10px; color: #444444; font-family: Verdana, Helvetica, 
 Arial, sans-serif; font-size: 16px; font-style: normal; font-weight: 400; l
 etter-spacing: normal; orphans: 2; text-indent: 0px; text-transform: none; 
 widows: 2; word-spacing: 0px; white-space: normal; text-align: center;"><sp
 an style="font-size: 12pt;">on&nbsp;</span></p><p style="margin: 0px 0px 10
 px; color: #444444; font-family: Verdana, Helvetica, Arial, sans-serif; fon
 t-size: 16px; font-style: normal; font-weight: 400; letter-spacing: normal;
  orphans: 2; text-indent: 0px; text-transform: none; widows: 2; word-spacin
 g: 0px; white-space: normal; text-align: center;"><strong><span style="colo
 r: #2c363a; font-family: 'book antiqua', palatino; font-size: 14pt; font-st
 yle: normal; letter-spacing: normal; orphans: 2; text-align: left; text-ind
 ent: 0px; text-transform: none; widows: 2; word-spacing: 0px; white-space: 
 normal; background-color: #ffffff; float: none;">Photocatalytic water split
 ting for green hydrogen generation</span></strong></p><p style="margin: 0px
  0px 10px; color: #444444; font-family: Verdana, Helvetica, Arial, sans-ser
 if; font-size: 16px; font-style: normal; font-weight: 400; letter-spacing: 
 normal; orphans: 2; text-indent: 0px; text-transform: none; widows: 2; word
 -spacing: 0px; white-space: normal; text-align: center;"><span style="font-
 size: 12pt;">by</span></p><p style="margin: 0px 0px 10px; color: #444444; f
 ont-family: Verdana, Helvetica, Arial, sans-serif; font-size: 16px; font-st
 yle: normal; font-weight: 400; letter-spacing: normal; orphans: 2; text-ind
 ent: 0px; text-transform: none; widows: 2; word-spacing: 0px; white-space: 
 normal; text-align: center;"><span style="font-size: 14pt;"><strong><span s
 tyle="font-family: 'book antiqua', palatino;"><span style="color: #2c363a; 
 font-style: normal; letter-spacing: normal; orphans: 2; text-align: left; t
 ext-indent: 0px; text-transform: none; widows: 2; word-spacing: 0px; white-
 space: normal; background-color: #ffffff; float: none;">Ms.&nbsp;</span><sp
 an style="color: #2c363a; font-style: normal; letter-spacing: normal; orpha
 ns: 2; text-align: left; text-indent: 0px; text-transform: none; widows: 2;
  word-spacing: 0px; white-space: normal; background-color: #ffffff;">Athira
  Chandran M.</span></span></strong></span></p><p style="margin: 0px 0px 10p
 x; color: #444444; font-family: Verdana, Helvetica, Arial, sans-serif; font
 -size: 16px; font-style: normal; font-weight: 400; letter-spacing: normal; 
 orphans: 2; text-indent: 0px; text-transform: none; widows: 2; word-spacing
 : 0px; white-space: normal; text-align: center;"><span style="font-size: 14
 pt; font-family: 'book antiqua', palatino;">on</span></p><p style="margin: 
 0px 0px 10px; color: #444444; font-family: Verdana, Helvetica, Arial, sans-
 serif; font-size: 16px; font-style: normal; font-weight: 400; letter-spacin
 g: normal; orphans: 2; text-indent: 0px; text-transform: none; widows: 2; w
 ord-spacing: 0px; white-space: normal; text-align: center;"><span style="fo
 nt-family: 'book antiqua', palatino; font-size: 14pt;"><strong style="font-
 weight: bold;">&nbsp;Fri</strong><strong style="font-weight: bold;">day, 17
 &nbsp;May, 2024</strong></span></p><p style="margin: 0px 0px 10px; color: #
 444444; font-family: Verdana, Helvetica, Arial, sans-serif; font-size: 16px
 ; font-style: normal; font-weight: 400; letter-spacing: normal; orphans: 2;
  text-indent: 0px; text-transform: none; widows: 2; word-spacing: 0px; whit
 e-space: normal; text-align: center;"><span style="font-size: 14pt; font-fa
 mily: 'book antiqua', palatino;">Time:03:00pm</span></p><p style="margin: 0
 px 0px 10px; color: #444444; font-family: Verdana, Helvetica, Arial, sans-s
 erif; font-size: 16px; font-style: normal; font-weight: 400; letter-spacing
 : normal; orphans: 2; text-indent: 0px; text-transform: none; widows: 2; wo
 rd-spacing: 0px; white-space: normal; text-align: center;"><span style="fon
 t-size: 12pt;">Venue: Classroom</span></p> This event was imported from: ht
 tps://cens.res.in/en/events/eventdetail/483/-/photocatalytic-water-splittin
 g-for-green-hydrogen-generation?tmpl=component
DTSTAMP:20260421T003003Z
DTSTART;TZID=Indian/Mahe:20240517T150000
DTEND;TZID=Indian/Mahe:20240517T170000
SEQUENCE:0
TRANSP:OPAQUE
END:VEVENT
END:VCALENDAR