BEGIN:VCALENDAR
VERSION:2.0
PRODID:-//jEvents 2.0 for Joomla//EN
CALSCALE:GREGORIAN
METHOD:PUBLISH
BEGIN:VTIMEZONE
TZID:Indian/Mahe
BEGIN:STANDARD
DTSTART:20230514T113000
RDATE:20380119T071407
TZOFFSETFROM:+0400
TZOFFSETTO:+0400
TZNAME:Indian/Mahe +04
END:STANDARD
END:VTIMEZONE
BEGIN:VEVENT
UID:dac321011ff4952dbc7318a041a3b2a4
CATEGORIES:Special Events
CREATED:20240506T103744
SUMMARY: Trends in Military Aviation 
LOCATION:Classroom
DESCRIPTION;ENCODING=QUOTED-PRINTABLE:<p style="text-align: center;"><span style="font-size: 14pt;"><strong><span
  style="font-family: 'book antiqua', palatino;">Special lecture on Occasion
  of National Technology DAy</span></strong></span></p><p style="text-align:
  center;"><span style="font-size: 14pt;"><strong><span style="font-family: 
 'book antiqua', palatino;">Trends in Military Aviation</span></strong></spa
 n></p><p style="text-align: center;"><span style="font-family: 'book antiqu
 a', palatino; font-size: 14pt;">by</span></p><p style="text-align: center;"
 ><span style="font-size: 14pt;"><strong><span style="font-family: 'book ant
 iqua', palatino;">Dr. D. K. Sunil, </span></strong></span></p><p style="tex
 t-align: center;"><span style="font-family: 'book antiqua', palatino; font-
 size: 14pt;">Director (Engg, R &amp; D), HAL</span></p><p style="text-align
 : center;"><span style="font-family: 'book antiqua', palatino; font-size: 1
 4pt;">on</span></p><p style="text-align: center;"><strong><span style="font
 -family: 'book antiqua', palatino; font-size: 12pt;">Tuesday, 14 May 2024</
 span></strong></p><p style="text-align: center;"><span style="font-family: 
 'book antiqua', palatino; font-size: 12pt;">Time:11:30 AM</span></p><p styl
 e="text-align: center;"><span style="font-family: 'book antiqua', palatino;
  font-size: 12pt;">Venue: Classroom</span></p> This event was imported from
 : https://cens.res.in/en/events/eventdetail/482/-/trends-in-military-aviati
 on?tmpl=component
DTSTAMP:20260421T003003Z
DTSTART;TZID=Indian/Mahe:20240514T113000
DTEND;TZID=Indian/Mahe:20240514T130000
SEQUENCE:0
TRANSP:OPAQUE
END:VEVENT
END:VCALENDAR