BEGIN:VCALENDAR
VERSION:2.0
PRODID:-//jEvents 2.0 for Joomla//EN
CALSCALE:GREGORIAN
METHOD:PUBLISH
BEGIN:VTIMEZONE
TZID:Indian/Mahe
BEGIN:STANDARD
DTSTART:20230117T080000
RDATE:20380119T071407
TZOFFSETFROM:+0400
TZOFFSETTO:+0400
TZNAME:Indian/Mahe +04
END:STANDARD
END:VTIMEZONE
BEGIN:VEVENT
UID:ebeb86ce0ec6a88d812f4078ac8de565
CATEGORIES:Cens Colloquium
CREATED:20240118T135012
SUMMARY:Synergistic influence of Soft-Nano mesophases formed by incorporated nanostructures
LOCATION:Classroom
DESCRIPTION;ENCODING=QUOTED-PRINTABLE:<p style="margin: 0px 0px 10px; color: #444444; font-family: Verdana, Helve
 tica, Arial, sans-serif; font-size: 16px; font-style: normal; font-weight: 
 400; letter-spacing: normal; orphans: 2; text-indent: 0px; text-transform: 
 none; widows: 2; word-spacing: 0px; white-space: normal; text-align: center
 ;"><span style="font-size: 14pt;"><strong style="font-weight: bold;">Thesis
  Colloquium</strong></span></p><p style="margin: 0px 0px 10px; color: #4444
 44; font-family: Verdana, Helvetica, Arial, sans-serif; font-size: 16px; fo
 nt-style: normal; font-weight: 400; letter-spacing: normal; orphans: 2; tex
 t-indent: 0px; text-transform: none; widows: 2; word-spacing: 0px; white-sp
 ace: normal; text-align: center;"><span style="font-size: 14pt;"><strong st
 yle="font-weight: bold;">Title of the paper:</strong><strong style="font-we
 ight: bold;">&nbsp;&nbsp;<span style="color: #2c363a; font-family: Verdana,
  Geneva, sans-serif; font-size: 13.3333px; font-style: normal; font-weight:
  400; letter-spacing: normal; orphans: 2; text-align: left; text-indent: 0p
 x; text-transform: none; widows: 2; word-spacing: 0px; white-space: normal;
  background-color: #ffffff; float: none;">Synergistic influence of Soft-Nan
 o mesophases formed by incorporated nanostructures</span></strong></span></
 p><p style="margin: 0px 0px 10px; color: #444444; font-family: Verdana, Hel
 vetica, Arial, sans-serif; font-size: 16px; font-style: normal; font-weight
 : 400; letter-spacing: normal; orphans: 2; text-indent: 0px; text-transform
 : none; widows: 2; word-spacing: 0px; white-space: normal; text-align: cent
 er;">by</p><p style="margin: 0px 0px 10px; color: #444444; font-family: Ver
 dana, Helvetica, Arial, sans-serif; font-size: 16px; font-style: normal; fo
 nt-weight: 400; letter-spacing: normal; orphans: 2; text-indent: 0px; text-
 transform: none; widows: 2; word-spacing: 0px; white-space: normal; text-al
 ign: center;"><strong style="font-weight: bold;"><span style="font-size: 14
 pt;"><span style="color: #2c363a; font-family: Verdana, Geneva, sans-serif;
  text-align: left;">Ms. Gayathri R.Pisharody</span></span></strong></p><p s
 tyle="margin: 0px 0px 10px; color: #444444; font-family: Verdana, Helvetica
 , Arial, sans-serif; font-size: 16px; font-style: normal; font-weight: 400;
  letter-spacing: normal; orphans: 2; text-indent: 0px; text-transform: none
 ; widows: 2; word-spacing: 0px; white-space: normal; text-align: center;"><
 span style="white-space: pre;"> </span><span style="font-size: 14pt;">Date:
 &nbsp; Jan 18, 2023</span></p><p style="margin: 0px 0px 10px; color: #44444
 4; font-family: Verdana, Helvetica, Arial, sans-serif; font-size: 16px; fon
 t-style: normal; font-weight: 400; letter-spacing: normal; orphans: 2; text
 -indent: 0px; text-transform: none; widows: 2; word-spacing: 0px; white-spa
 ce: normal; text-align: center;"><span style="font-size: 14pt;"><span style
 ="white-space: pre;"> </span>Time:03:30 PM</span></p><p style="margin: 0px 
 0px 10px; color: #444444; font-family: Verdana, Helvetica, Arial, sans-seri
 f; font-size: 16px; font-style: normal; font-weight: 400; letter-spacing: n
 ormal; orphans: 2; text-indent: 0px; text-transform: none; widows: 2; word-
 spacing: 0px; white-space: normal; text-align: center;"><span style="font-s
 ize: 14pt;"><span style="white-space: pre;"> </span>Venue: Classroom</span>
 </p> This event was imported from: https://cens.res.in/en/events/eventdetai
 l/468/-/synergistic-influence-of-soft-nano-mesophases-formed-by-incorporate
 d-nanostructures?tmpl=component
DTSTAMP:20260420T213101Z
DTSTART;TZID=Indian/Mahe:20240118T080000
DTEND;TZID=Indian/Mahe:20240118T170000
SEQUENCE:0
TRANSP:OPAQUE
END:VEVENT
END:VCALENDAR