BEGIN:VCALENDAR
VERSION:2.0
PRODID:-//jEvents 2.0 for Joomla//EN
CALSCALE:GREGORIAN
METHOD:PUBLISH
BEGIN:VTIMEZONE
TZID:Indian/Mahe
BEGIN:STANDARD
DTSTART:20150218T153000
RDATE:20380119T071407
TZOFFSETFROM:+0400
TZOFFSETTO:+0400
TZNAME:Indian/Mahe +04
END:STANDARD
END:VTIMEZONE
BEGIN:VEVENT
UID:ccc729d0a6b21eff63e4e85b4e0bb473
CATEGORIES:CeNS Seminar
CREATED:20170703T070802
SUMMARY:Thematic Seminar on Optics Extraordinaire : Metamaterials
LOCATION:LECTURE HALL
DESCRIPTION;ENCODING=QUOTED-PRINTABLE:<div style="font-family: Verdana,Helvetica,Arial,sans-serif; font-size: 16p
 x; line-height: 1.6; width: 70%; float: left; text-align: justify; margin-t
 op: 20px;"><p style="text-align: center;">Thematic Seminar on Optics Extrao
 rdinaire : Metamaterials</p><p style="text-align: center;">by</p><p style="
 text-align: center;"><strong>S.Vimala</strong></p><p style="text-align: cen
 ter;">on</p><p style="text-align: center;">Friday, 19 February 2016</p><p s
 tyle="text-align: center;">Time:&nbsp;3.30 P.M.</p><p style="text-align: ce
 nter;">Venue: Lecture Hall</p></div> This event was imported from: https://
 cens.res.in/en/events/eventdetail/46/-/thematic-seminar-on-optics-extraordi
 naire-metamaterials?tmpl=component
DTSTAMP:20260421T033850Z
DTSTART;TZID=Indian/Mahe:20160219T153000
SEQUENCE:0
TRANSP:OPAQUE
END:VEVENT
END:VCALENDAR