BEGIN:VCALENDAR
VERSION:2.0
PRODID:-//jEvents 2.0 for Joomla//EN
CALSCALE:GREGORIAN
METHOD:PUBLISH
BEGIN:VTIMEZONE
TZID:Indian/Mahe
BEGIN:STANDARD
DTSTART:20221012T153000
RDATE:20380119T071407
TZOFFSETFROM:+0400
TZOFFSETTO:+0400
TZNAME:Indian/Mahe +04
END:STANDARD
END:VTIMEZONE
BEGIN:VEVENT
UID:74120efdaaad2e2d111f1dfb76d201fd
CATEGORIES:CeNS Seminar
CREATED:20231016T084455
SUMMARY:Renewables for sustainability: Advanced Functional nanomaterials from Plant Metabolites
LOCATION:Classroom
DESCRIPTION;ENCODING=QUOTED-PRINTABLE:Special lecture\non&nbsp;\nRenewables for sustainability: Advanced Function
 al Nanomaterials from Plant Metabolites\nby\nProf. Braja Gopal Bag,\nDepart
 ment of Chemistry, Vidyasagar University, Midnapore, West Bengal&nbsp;\non\
 nFriday, 13 Oct, 2023\nTime:03:30pm\nVenue: Classroom\n This event was impo
 rted from: https://cens.res.in/en/events/eventdetail/459/-/renewables-for-s
 ustainability-advanced-functional-nanomaterials-from-plant-metabolites?tmpl
 =component
DTSTAMP:20260421T050926Z
DTSTART;TZID=Indian/Mahe:20231013T153000
DTEND;TZID=Indian/Mahe:20231013T170000
SEQUENCE:0
TRANSP:OPAQUE
END:VEVENT
END:VCALENDAR