BEGIN:VCALENDAR
VERSION:2.0
PRODID:-//jEvents 2.0 for Joomla//EN
CALSCALE:GREGORIAN
METHOD:PUBLISH
BEGIN:VTIMEZONE
TZID:Indian/Mahe
BEGIN:STANDARD
DTSTART:20220926T150000
RDATE:20380119T071407
TZOFFSETFROM:+0400
TZOFFSETTO:+0400
TZNAME:Indian/Mahe +04
END:STANDARD
END:VTIMEZONE
BEGIN:VEVENT
UID:f077fff2d10050856ba6e7dc549d1843
CATEGORIES:Cens Colloquium
CREATED:20230919T082543
SUMMARY:Solutions processing of layered materials and their applications
LOCATION:Classroom
DESCRIPTION;ENCODING=QUOTED-PRINTABLE:<p style="margin: 0px 0px 10px; color: #444444; font-family: Verdana, Helve
 tica, Arial, sans-serif; font-size: 16px; text-align: center;"><strong>Thes
 is Colloquium</strong></p><p style="margin: 0px 0px 10px; color: #444444; f
 ont-family: Verdana, Helvetica, Arial, sans-serif; font-size: 16px; text-al
 ign: center;"><strong>Title of the paper:</strong><strong>&nbsp;</strong><s
 pan style="color: #2c363a; font-family: Verdana, Geneva, sans-serif; font-s
 ize: 12pt; text-align: left;">Solutions processing of layered materials and
  their applications</span></p><p style="margin: 0px 0px 10px; color: #44444
 4; font-family: Verdana, Helvetica, Arial, sans-serif; font-size: 16px; tex
 t-align: center;">by</p><p style="margin: 0px 0px 10px; color: #444444; fon
 t-family: Verdana, Helvetica, Arial, sans-serif; font-size: 16px; text-alig
 n: center;"><strong>Mr Priyabrata Sahoo</strong></p><p style="margin: 0px 0
 px 10px; color: #444444; font-family: Verdana, Helvetica, Arial, sans-serif
 ; font-size: 16px; text-align: center;"><span style="white-space: pre;"> </
 span>Wednesday, Sep 27, 2023</p><p style="margin: 0px 0px 10px; color: #444
 444; font-family: Verdana, Helvetica, Arial, sans-serif; font-size: 16px; t
 ext-align: center;"><span style="white-space: pre;"> </span>Time:3:00 PM</p
 ><p style="margin: 0px 0px 10px; color: #444444; font-family: Verdana, Helv
 etica, Arial, sans-serif; font-size: 16px; text-align: center;"><span style
 ="white-space: pre;"> </span>Venue: Classroom</p> This event was imported f
 rom: https://cens.res.in/en/events/eventdetail/456/-/solutions-processing-o
 f-layered-materials-and-their-applications?tmpl=component
DTSTAMP:20260421T051517Z
DTSTART;TZID=Indian/Mahe:20230927T150000
DTEND;TZID=Indian/Mahe:20230927T170000
SEQUENCE:0
TRANSP:OPAQUE
END:VEVENT
END:VCALENDAR