BEGIN:VCALENDAR
VERSION:2.0
PRODID:-//jEvents 2.0 for Joomla//EN
CALSCALE:GREGORIAN
METHOD:PUBLISH
BEGIN:VTIMEZONE
TZID:Indian/Mahe
BEGIN:STANDARD
DTSTART:20220713T150000
RDATE:20380119T071407
TZOFFSETFROM:+0400
TZOFFSETTO:+0400
TZNAME:Indian/Mahe +04
END:STANDARD
END:VTIMEZONE
BEGIN:VEVENT
UID:9ad465f622b45746237f99159b3a36a5
CATEGORIES:JAS
CREATED:20230712T084758
SUMMARY:Dual-Mode Porous Polymeric Films with Coral-like Hierarchical Structure for All-Day Radiative Cooling and Heating
LOCATION:Classroom
DESCRIPTION;ENCODING=QUOTED-PRINTABLE:<p style="margin: 0px 0px 10px; color: #444444; font-family: Verdana, Helve
 tica, Arial, sans-serif; font-size: 16px; font-style: normal; font-weight: 
 400; letter-spacing: normal; orphans: 2; text-indent: 0px; text-transform: 
 none; widows: 2; word-spacing: 0px; white-space: normal; text-align: center
 ;"><span style="font-family: verdana, geneva;"><strong style="font-weight: 
 bold;">JAS -2</strong></span></p><p style="margin: 0px 0px 10px; color: #44
 4444; font-family: Verdana, Helvetica, Arial, sans-serif; font-size: 16px; 
 font-style: normal; font-weight: 400; letter-spacing: normal; orphans: 2; t
 ext-indent: 0px; text-transform: none; widows: 2; word-spacing: 0px; white-
 space: normal; text-align: center;"><span style="font-family: verdana, gene
 va;">by</span></p><p style="margin: 0px 0px 10px; color: #444444; font-fami
 ly: Verdana, Helvetica, Arial, sans-serif; font-size: 16px; font-style: nor
 mal; font-weight: 400; letter-spacing: normal; orphans: 2; text-indent: 0px
 ; text-transform: none; widows: 2; word-spacing: 0px; white-space: normal; 
 text-align: center;"><span style="font-family: verdana, geneva; font-size: 
 14pt;"><strong style="font-weight: bold;"><span style="color: #2c363a; font
 -family: 'book antiqua', palatino, serif; font-size: 14pt; font-style: norm
 al; letter-spacing: normal; orphans: 2; text-align: left; text-indent: 0px;
  text-transform: none; widows: 2; word-spacing: 0px; white-space: normal; b
 ackground-color: #ffffff; float: none;">Ms Jil Rose Perutil</span><span sty
 le="color: #2c363a; text-align: left;"><br /></span></strong></span></p><p 
 style="margin: 0px 0px 10px; color: #444444; font-family: Verdana, Helvetic
 a, Arial, sans-serif; font-size: 16px; font-style: normal; font-weight: 400
 ; letter-spacing: normal; orphans: 2; text-indent: 0px; text-transform: non
 e; widows: 2; word-spacing: 0px; white-space: normal; text-align: center;">
 <span style="font-family: verdana, geneva;"><span style="font-family: 'book
  antiqua', palatino; font-size: 14pt;"><strong style="font-weight: bold;">T
 itle of the Paper :</strong>&nbsp;</span><span style="color: #2c363a; font-
 size: 14pt; font-style: normal; letter-spacing: normal; orphans: 2; text-al
 ign: left; text-indent: 0px; text-transform: none; white-space: normal; wid
 ows: 2; word-spacing: 0px; background-color: #ffffff; float: none; font-fam
 ily: 'book antiqua', palatino;"><span class="v1fontstyle0">Dual-Mode Porous
  Polymeric Films with Coral-like Hierarchical Structure for All-Day Radiati
 ve Cooling and Heating</span></span></span></p><p style="margin: 0px 0px 10
 px; color: #444444; font-family: Verdana, Helvetica, Arial, sans-serif; fon
 t-size: 16px; font-style: normal; font-weight: 400; letter-spacing: normal;
  orphans: 2; text-indent: 0px; text-transform: none; widows: 2; word-spacin
 g: 0px; white-space: normal; text-align: center;"><span style="font-family:
  verdana, geneva;"><span style="font-family: 'book antiqua', palatino; font
 -size: 14pt;"><strong style="font-weight: bold;">Journal name:</strong></sp
 an>&nbsp;<span style="color: #2c363a; font-size: 14pt; font-style: normal; 
 font-weight: 400; letter-spacing: normal; orphans: 2; text-align: left; tex
 t-indent: 0px; text-transform: none; white-space: normal; widows: 2; word-s
 pacing: 0px; background-color: #ffffff; float: none;">&nbsp;<span style="fo
 nt-family: 'book antiqua', palatino;">ACS Nano</span><span style="color: #2
 c363a; font-family: Verdana, Geneva, sans-serif; font-style: normal; font-w
 eight: 400; letter-spacing: normal; orphans: 2; text-align: left; text-inde
 nt: 0px; text-transform: none; widows: 2; word-spacing: 0px; white-space: n
 ormal; background-color: #ffffff; float: none;"><br /></span></span></span>
 </p><p style="margin: 0px 0px 10px; color: #444444; font-family: Verdana, H
 elvetica, Arial, sans-serif; font-size: 16px; font-style: normal; font-weig
 ht: 400; letter-spacing: normal; orphans: 2; text-indent: 0px; text-transfo
 rm: none; widows: 2; word-spacing: 0px; white-space: normal; text-align: ce
 nter;"><span style="font-family: verdana, geneva;"><strong style="font-weig
 ht: bold;">DOI:&nbsp;<a href="https://doi.org/10.1021/acsnano.2c07293">http
 s://doi.org/10.1021/acsnano.2c07293</a><span style="font-size: 14pt;"><a st
 yle="color: #00acff; text-decoration: none; outline: 0px; background-color:
  #ffffff; font-family: Verdana, Geneva, sans-serif; font-size: 13.3333px; f
 ont-style: normal; font-weight: 400; letter-spacing: normal; orphans: 2; te
 xt-align: left; text-indent: 0px; text-transform: none; widows: 2; word-spa
 cing: 0px; white-space: normal;" href="https://doi.org/10.1016/j.xcrp.2023.
 101383" target="_blank" rel="noopener noreferrer"><br /></a></span></strong
 ></span></p><p style="margin: 0px 0px 10px; color: #444444; font-family: Ve
 rdana, Helvetica, Arial, sans-serif; font-size: 16px; font-style: normal; f
 ont-weight: 400; letter-spacing: normal; orphans: 2; text-indent: 0px; text
 -transform: none; widows: 2; word-spacing: 0px; white-space: normal; text-a
 lign: center;"><span style="font-family: verdana, geneva; font-size: 12pt;"
 >on</span></p><p style="margin: 0px 0px 10px; color: #444444; font-family: 
 Verdana, Helvetica, Arial, sans-serif; font-size: 16px; font-style: normal;
  font-weight: 400; letter-spacing: normal; orphans: 2; text-indent: 0px; te
 xt-transform: none; widows: 2; word-spacing: 0px; white-space: normal; text
 -align: center;"><span style="font-family: 'book antiqua', palatino; font-s
 ize: 14pt;"><strong style="font-weight: bold;">Friday, July 14, 2023</stron
 g></span></p><p style="margin: 0px 0px 10px; color: #444444; font-family: V
 erdana, Helvetica, Arial, sans-serif; font-size: 16px; font-style: normal; 
 font-weight: 400; letter-spacing: normal; orphans: 2; text-indent: 0px; tex
 t-transform: none; widows: 2; word-spacing: 0px; white-space: normal; text-
 align: center;"><span style="font-size: 14pt; font-family: 'book antiqua', 
 palatino;">Time:3:00 pm</span></p> This event was imported from: https://ce
 ns.res.in/en/events/eventdetail/444/-/dual-mode-porous-polymeric-films-with
 -coral-like-hierarchical-structure-for-all-day-radiative-cooling-and-heatin
 g?tmpl=component
DTSTAMP:20260421T101012Z
DTSTART;TZID=Indian/Mahe:20230714T150000
DTEND;TZID=Indian/Mahe:20230714T160000
SEQUENCE:0
TRANSP:OPAQUE
END:VEVENT
END:VCALENDAR