BEGIN:VCALENDAR
VERSION:2.0
PRODID:-//jEvents 2.0 for Joomla//EN
CALSCALE:GREGORIAN
METHOD:PUBLISH
BEGIN:VTIMEZONE
TZID:Indian/Mahe
BEGIN:STANDARD
DTSTART:20220629T150000
RDATE:20380119T071407
TZOFFSETFROM:+0400
TZOFFSETTO:+0400
TZNAME:Indian/Mahe +04
END:STANDARD
END:VTIMEZONE
BEGIN:VEVENT
UID:33d861d26344ca35d222734f4366d49a
CATEGORIES:JAS
CREATED:20230628T143110
SUMMARY: Synthesis of Liquid Gallium at Reduced Graphene Oxide Core-Shell Nanoparticles  with Enhanced Photoacoustic and Photothermal Performance
LOCATION:Classroom
DESCRIPTION;ENCODING=QUOTED-PRINTABLE:<p style="margin: 0px 0px 10px; color: #444444; font-family: Verdana, Helve
 tica, Arial, sans-serif; font-size: 16px; font-style: normal; font-weight: 
 400; letter-spacing: normal; orphans: 2; text-indent: 0px; text-transform: 
 none; widows: 2; word-spacing: 0px; white-space: normal; text-align: center
 ;"><span style="font-family: verdana, geneva;"><strong style="font-weight: 
 bold;">JAS -1</strong></span></p><p style="margin: 0px 0px 10px; color: #44
 4444; font-family: Verdana, Helvetica, Arial, sans-serif; font-size: 16px; 
 font-style: normal; font-weight: 400; letter-spacing: normal; orphans: 2; t
 ext-indent: 0px; text-transform: none; widows: 2; word-spacing: 0px; white-
 space: normal; text-align: center;"><span style="font-family: verdana, gene
 va;">by</span></p><p style="margin: 0px 0px 10px; color: #444444; font-fami
 ly: Verdana, Helvetica, Arial, sans-serif; font-size: 16px; font-style: nor
 mal; font-weight: 400; letter-spacing: normal; orphans: 2; text-indent: 0px
 ; text-transform: none; widows: 2; word-spacing: 0px; white-space: normal; 
 text-align: center;"><span style="font-family: verdana, geneva; font-size: 
 14pt;"><strong style="font-weight: bold;"><span style="color: #2c363a; font
 -family: 'book antiqua', palatino, serif; font-style: normal; letter-spacin
 g: normal; orphans: 2; text-align: left; text-indent: 0px; text-transform: 
 none; widows: 2; word-spacing: 0px; white-space: normal; background-color: 
 #ffffff; float: none;">Mr Abhishek Roy</span></strong><strong style="font-w
 eight: bold;"><span style="color: #2c363a; text-align: left;"><br /></span>
 </strong></span></p><p style="margin: 0px 0px 10px; color: #444444; font-fa
 mily: Verdana, Helvetica, Arial, sans-serif; font-size: 16px; font-style: n
 ormal; font-weight: 400; letter-spacing: normal; orphans: 2; text-indent: 0
 px; text-transform: none; widows: 2; word-spacing: 0px; white-space: normal
 ; text-align: center;"><span style="font-family: verdana, geneva;"><span st
 yle="font-family: 'book antiqua', palatino; font-size: 14pt;"><strong style
 ="font-weight: bold;">Title of the Paper:</strong>&nbsp;</span><span style=
 "color: #2c363a; font-size: 14pt; font-style: normal; letter-spacing: norma
 l; orphans: 2; text-align: left; text-indent: 0px; text-transform: none; wh
 ite-space: normal; widows: 2; word-spacing: 0px; background-color: #ffffff;
  float: none; font-family: 'book antiqua', palatino;"> <span style="color: 
 #2c363a; font-family: 'book antiqua', palatino, serif; font-style: normal; 
 font-weight: 400; letter-spacing: normal; orphans: 2; text-align: left; tex
 t-indent: 0px; text-transform: none; widows: 2; word-spacing: 0px; white-sp
 ace: normal; background-color: #ffffff; float: none;">Synthesis of Liquid G
 allium at Reduced Graphene Oxide Core-Shell Nanoparticles </span></span></s
 pan></p><p style="margin: 0px 0px 10px; color: #444444; font-family: Verdan
 a, Helvetica, Arial, sans-serif; font-size: 16px; font-style: normal; font-
 weight: 400; letter-spacing: normal; orphans: 2; text-indent: 0px; text-tra
 nsform: none; widows: 2; word-spacing: 0px; white-space: normal; text-align
 : center;"><span style="font-family: verdana, geneva;"><span style="color: 
 #2c363a; font-size: 14pt; font-style: normal; letter-spacing: normal; orpha
 ns: 2; text-align: left; text-indent: 0px; text-transform: none; white-spac
 e: normal; widows: 2; word-spacing: 0px; background-color: #ffffff; float: 
 none; font-family: 'book antiqua', palatino;"><span style="color: #2c363a; 
 font-family: 'book antiqua', palatino, serif; font-style: normal; font-weig
 ht: 400; letter-spacing: normal; orphans: 2; text-align: left; text-indent:
  0px; text-transform: none; widows: 2; word-spacing: 0px; white-space: norm
 al; background-color: #ffffff; float: none;">with Enhanced Photoacoustic an
 d Photothermal Performance</span></span></span></p><p>&nbsp;</p><p style="m
 argin: 0px 0px 10px; color: #444444; font-family: Verdana, Helvetica, Arial
 , sans-serif; font-size: 16px; font-style: normal; font-weight: 400; letter
 -spacing: normal; orphans: 2; text-indent: 0px; text-transform: none; widow
 s: 2; word-spacing: 0px; white-space: normal; text-align: center;"><span st
 yle="font-family: verdana, geneva;"><span style="font-family: 'book antiqua
 ', palatino; font-size: 14pt;"><strong style="font-weight: bold;">Journal n
 ame:</strong></span>&nbsp;<span style="color: #2c363a; font-size: 14pt; fon
 t-style: normal; font-weight: 400; letter-spacing: normal; orphans: 2; text
 -align: left; text-indent: 0px; text-transform: none; white-space: normal; 
 widows: 2; word-spacing: 0px; background-color: #ffffff; float: none;"> <sp
 an style="color: #2c363a; font-family: 'book antiqua', palatino, serif; fon
 t-size: 16px; font-style: normal; font-weight: 400; letter-spacing: normal;
  orphans: 2; text-align: left; text-indent: 0px; text-transform: none; wido
 ws: 2; word-spacing: 0px; white-space: normal; background-color: #ffffff; f
 loat: none;">&nbsp;Journal of the American Chemical Society.</span></span><
 /span></p><p style="margin: 0px 0px 10px; color: #444444; font-family: Verd
 ana, Helvetica, Arial, sans-serif; font-size: 16px; font-style: normal; fon
 t-weight: 400; letter-spacing: normal; orphans: 2; text-indent: 0px; text-t
 ransform: none; widows: 2; word-spacing: 0px; white-space: normal; text-ali
 gn: center;"><span style="font-family: verdana, geneva;"><strong style="fon
 t-weight: bold;">DOI:&nbsp;<span style="color: #2c363a; font-family: 'book 
 antiqua', palatino, serif; font-size: 16px; font-style: normal; font-weight
 : 400; letter-spacing: normal; orphans: 2; text-align: left; text-indent: 0
 px; text-transform: none; widows: 2; word-spacing: 0px; white-space: normal
 ; background-color: #ffffff; float: none;">https://doi.org/10.1021/jacs.2c0
 0162</span></strong></span></p><p style="margin: 0px 0px 10px; color: #4444
 44; font-family: Verdana, Helvetica, Arial, sans-serif; font-size: 16px; fo
 nt-style: normal; font-weight: 400; letter-spacing: normal; orphans: 2; tex
 t-indent: 0px; text-transform: none; widows: 2; word-spacing: 0px; white-sp
 ace: normal; text-align: center;"><span style="font-family: verdana, geneva
 ; font-size: 12pt;">on</span></p><p style="margin: 0px 0px 10px; color: #44
 4444; font-family: Verdana, Helvetica, Arial, sans-serif; font-size: 16px; 
 font-style: normal; font-weight: 400; letter-spacing: normal; orphans: 2; t
 ext-indent: 0px; text-transform: none; widows: 2; word-spacing: 0px; white-
 space: normal; text-align: center;"><span style="font-family: 'book antiqua
 ', palatino; font-size: 14pt;"><strong style="font-weight: bold;">Friday, J
 un 30, 2023</strong></span></p><p style="margin: 0px 0px 10px; color: #4444
 44; font-family: Verdana, Helvetica, Arial, sans-serif; font-size: 16px; fo
 nt-style: normal; font-weight: 400; letter-spacing: normal; orphans: 2; tex
 t-indent: 0px; text-transform: none; widows: 2; word-spacing: 0px; white-sp
 ace: normal; text-align: center;"><span style="font-size: 12pt; font-family
 : 'book antiqua', palatino;">Time:3:00 pm</span></p><p style="margin: 0px 0
 px 10px; color: #444444; font-family: Verdana, Helvetica, Arial, sans-serif
 ; font-size: 16px; font-style: normal; font-weight: 400; letter-spacing: no
 rmal; orphans: 2; text-indent: 0px; text-transform: none; widows: 2; word-s
 pacing: 0px; white-space: normal; text-align: center;"><span style="font-fa
 mily: 'book antiqua', palatino; font-size: 12pt;">Venue: Classroom</span></
 p> This event was imported from: https://cens.res.in/en/events/eventdetail/
 440/-/synthesis-of-liquid-gallium-at-reduced-graphene-oxide-core-shell-nano
 particles-with-enhanced-photoacoustic-and-photothermal-performance?tmpl=com
 ponent
DTSTAMP:20260421T101021Z
DTSTART;TZID=Indian/Mahe:20230630T150000
DTEND;TZID=Indian/Mahe:20230630T153000
SEQUENCE:0
TRANSP:OPAQUE
END:VEVENT
END:VCALENDAR