BEGIN:VCALENDAR
VERSION:2.0
PRODID:-//jEvents 2.0 for Joomla//EN
CALSCALE:GREGORIAN
METHOD:PUBLISH
BEGIN:VTIMEZONE
TZID:Indian/Mahe
BEGIN:STANDARD
DTSTART:20220627T150000
RDATE:20380119T071407
TZOFFSETFROM:+0400
TZOFFSETTO:+0400
TZNAME:Indian/Mahe +04
END:STANDARD
END:VTIMEZONE
BEGIN:VEVENT
UID:5e719fb59fd1e6a55c6ec19d27d96904
CATEGORIES:Special Events
CREATED:20230628T083233
SUMMARY:Covalent Organic Frameworks and Metal Organic Frameworks- Demand, Promise and Challenges
LOCATION:Classroom
DESCRIPTION;ENCODING=QUOTED-PRINTABLE:<p style="margin: 0px 0px 10px; color: #444444; font-family: Verdana, Helve
 tica, Arial, sans-serif; font-size: 16px; font-style: normal; font-weight: 
 400; letter-spacing: normal; orphans: 2; text-indent: 0px; text-transform: 
 none; widows: 2; word-spacing: 0px; white-space: normal; text-align: center
 ;"><span style="font-size: 12pt;"><strong style="font-weight: bold;">Navyad
 hara Lecture&nbsp;</strong></span></p><p style="margin: 0px 0px 10px; color
 : #444444; font-family: Verdana, Helvetica, Arial, sans-serif; font-size: 1
 6px; font-style: normal; font-weight: 400; letter-spacing: normal; orphans:
  2; text-indent: 0px; text-transform: none; widows: 2; word-spacing: 0px; w
 hite-space: normal; text-align: center;"><span style="font-size: 12pt;">on<
 /span></p><p style="margin: 0px 0px 10px; color: #444444; font-family: Verd
 ana, Helvetica, Arial, sans-serif; font-size: 16px; font-style: normal; fon
 t-weight: 400; letter-spacing: normal; orphans: 2; text-indent: 0px; text-t
 ransform: none; widows: 2; word-spacing: 0px; white-space: normal; text-ali
 gn: center;"><strong>Covalent Organic Frameworks and Metal Organic&nbsp;</s
 trong><strong>Frameworks- Demand, Promise and Challenges</strong></p><p sty
 le="margin: 0px 0px 10px; color: #444444; font-family: Verdana, Helvetica, 
 Arial, sans-serif; font-size: 16px; font-style: normal; font-weight: 400; l
 etter-spacing: normal; orphans: 2; text-indent: 0px; text-transform: none; 
 widows: 2; word-spacing: 0px; white-space: normal; text-align: center;"><sp
 an style="font-size: 10pt;">by</span></p><p style="margin: 0px 0px 10px; co
 lor: #444444; font-family: Verdana, Helvetica, Arial, sans-serif; font-size
 : 16px; font-style: normal; font-weight: 400; letter-spacing: normal; orpha
 ns: 2; text-indent: 0px; text-transform: none; widows: 2; word-spacing: 0px
 ; white-space: normal; text-align: center;"><strong style="font-weight: bol
 d;"><span style="font-size: 12pt;">PROF. R. VAIDHYANATHAN, FRSC</span></str
 ong></p><p style="margin: 0px 0px 10px; color: #444444; font-family: Verdan
 a, Helvetica, Arial, sans-serif; font-size: 16px; font-style: normal; font-
 weight: 400; letter-spacing: normal; orphans: 2; text-indent: 0px; text-tra
 nsform: none; widows: 2; word-spacing: 0px; white-space: normal; text-align
 : center;">Associate Editor Chemistry of Materials,Associate Editor Chemist
 ry of Materials,</p><p style="margin: 0px 0px 10px; color: #444444; font-fa
 mily: Verdana, Helvetica, Arial, sans-serif; font-size: 16px; font-style: n
 ormal; font-weight: 400; letter-spacing: normal; orphans: 2; text-indent: 0
 px; text-transform: none; widows: 2; word-spacing: 0px; white-space: normal
 ; text-align: center;">Department of Chemistry, IISER Pune</p><p style="mar
 gin: 0px 0px 10px; color: #444444; font-family: Verdana, Helvetica, Arial, 
 sans-serif; font-size: 16px; font-style: normal; font-weight: 400; letter-s
 pacing: normal; orphans: 2; text-indent: 0px; text-transform: none; widows:
  2; word-spacing: 0px; white-space: normal; text-align: center;"><span styl
 e="font-size: 12pt;">on</span></p><p style="margin: 0px 0px 10px; color: #4
 44444; font-family: Verdana, Helvetica, Arial, sans-serif; font-size: 16px;
  font-style: normal; font-weight: 400; letter-spacing: normal; orphans: 2; 
 text-indent: 0px; text-transform: none; widows: 2; word-spacing: 0px; white
 -space: normal; text-align: center;"><span style="font-size: 14pt;">Wednesd
 ay, 28 Jun 2023</span></p><p style="margin: 0px 0px 10px; color: #444444; f
 ont-family: Verdana, Helvetica, Arial, sans-serif; font-size: 16px; font-st
 yle: normal; font-weight: 400; letter-spacing: normal; orphans: 2; text-ind
 ent: 0px; text-transform: none; widows: 2; word-spacing: 0px; white-space: 
 normal; text-align: center;">Time: 3:00 PM</p> This event was imported from
 : https://cens.res.in/en/events/eventdetail/437/-/covalent-organic-framewor
 ks-and-metal-organic-frameworks-demand-promise-and-challenges?tmpl=componen
 t
DTSTAMP:20260421T051518Z
DTSTART;TZID=Indian/Mahe:20230628T150000
DTEND;TZID=Indian/Mahe:20230628T170000
SEQUENCE:0
TRANSP:OPAQUE
END:VEVENT
END:VCALENDAR