BEGIN:VCALENDAR
VERSION:2.0
PRODID:-//jEvents 2.0 for Joomla//EN
CALSCALE:GREGORIAN
METHOD:PUBLISH
BEGIN:VTIMEZONE
TZID:Indian/Mahe
BEGIN:STANDARD
DTSTART:20220427T150000
RDATE:20380119T071407
TZOFFSETFROM:+0400
TZOFFSETTO:+0400
TZNAME:Indian/Mahe +04
END:STANDARD
END:VTIMEZONE
BEGIN:VEVENT
UID:d6a5a652d669d989cd99d41547d2763e
CATEGORIES:Thematic Seminar
CREATED:20230424T091828
SUMMARY:Acoustic Metamaterials: near-perfect sound attenuators
LOCATION:Classroom
DESCRIPTION;ENCODING=QUOTED-PRINTABLE:Thematic Seminar\nTitle of the paper:&nbsp;Acoustic Metamaterials: near-per
 fect sound attenuators\nby\nMs Nurjahan Khatun\n Date: April 28, 2023\n Tim
 e:3:00 PM\n Venue: Classroom\n This event was imported from: https://cens.r
 es.in/en/events/eventdetail/422/-/acoustic-metamaterials-near-perfect-sound
 -attenuators?tmpl=component
DTSTAMP:20260421T081415Z
DTSTART;TZID=Indian/Mahe:20230428T150000
DTEND;TZID=Indian/Mahe:20230428T170000
SEQUENCE:0
TRANSP:OPAQUE
END:VEVENT
END:VCALENDAR