BEGIN:VCALENDAR
VERSION:2.0
PRODID:-//jEvents 2.0 for Joomla//EN
CALSCALE:GREGORIAN
METHOD:PUBLISH
BEGIN:VTIMEZONE
TZID:Indian/Mahe
BEGIN:STANDARD
DTSTART:20220420T154500
RDATE:20380119T071407
TZOFFSETFROM:+0400
TZOFFSETTO:+0400
TZNAME:Indian/Mahe +04
END:STANDARD
END:VTIMEZONE
BEGIN:VEVENT
UID:2ec60d5391daf73c8934bc0fbf6d0257
CATEGORIES:JAS
CREATED:20230411T112916
SUMMARY:Thermodynamics of organic electrochemicaltransistors
LOCATION:Classroom
DESCRIPTION;ENCODING=QUOTED-PRINTABLE:<p style="margin: 0px 0px 10px; color: #444444; font-family: Verdana, Helve
 tica, Arial, sans-serif; font-size: 16px; text-align: center;"><strong>JAS 
 -1</strong></p><p style="margin: 0px 0px 10px; color: #444444; font-family:
  Verdana, Helvetica, Arial, sans-serif; font-size: 16px; text-align: center
 ;">by</p><p style="margin: 0px 0px 10px; color: #444444; font-family: Verda
 na, Helvetica, Arial, sans-serif; font-size: 16px; text-align: center;"><st
 rong>&nbsp;<span style="font-size: 12pt;">Mr Rohit Thakur</span></strong></
 p><p style="margin: 0px 0px 10px; color: #444444; font-family: Verdana, Hel
 vetica, Arial, sans-serif; font-size: 16px; text-align: center;"><strong>Ti
 tle of the Paper:</strong><strong>&nbsp;</strong><span style="color: #2c363
 a; font-family: verdana, geneva; font-size: 12pt; text-align: left;">Thermo
 dynamics of organic electrochemical transistors</span></p><p style="margin:
  0px 0px 10px; color: #444444; font-family: Verdana, Helvetica, Arial, sans
 -serif; font-size: 16px; text-align: center;"><strong>Journal name:</strong
 >&nbsp; Nature Communications</p><p style="margin: 0px 0px 10px; color: #44
 4444; font-family: Verdana, Helvetica, Arial, sans-serif; font-size: 16px; 
 text-align: center;"><strong>DOI:&nbsp;</strong><span style="color: #222222
 ; font-family: -apple-system, BlinkMacSystemFont, 'Segoe UI', Roboto, Oxyge
 n-Sans, Ubuntu, Cantarell, 'Helvetica Neue', sans-serif; text-align: left;"
 ><a href="https://doi.org/10.1038/s41467-022-32182-7">https://doi.org/10.10
 38/s41467-022-32182-7</a></span></p><p style="text-align: center;"><span st
 yle="font-family: verdana, geneva; font-size: 12pt;">on</span></p><p style=
 "text-align: center;"><strong><span style="font-family: verdana, geneva; fo
 nt-size: 12pt;">Friday, April 21, 2023</span></strong></p><p style="text-al
 ign: center;"><span style="font-size: 12pt;">Time:3:45 pm</span></p><p styl
 e="text-align: center;"><span style="font-family: verdana, geneva; font-siz
 e: 12pt;">Venue: Classroom</span></p><p style="text-align: center;"><span s
 tyle="font-size: 12pt;"></span></p><p>&nbsp;</p> This event was imported fr
 om: https://cens.res.in/en/events/eventdetail/420/-/thermodynamics-of-organ
 ic-electrochemicaltransistors?tmpl=component
DTSTAMP:20260421T051517Z
DTSTART;TZID=Indian/Mahe:20230421T154500
DTEND;TZID=Indian/Mahe:20230421T163000
SEQUENCE:0
TRANSP:OPAQUE
END:VEVENT
END:VCALENDAR