BEGIN:VCALENDAR
VERSION:2.0
PRODID:-//jEvents 2.0 for Joomla//EN
CALSCALE:GREGORIAN
METHOD:PUBLISH
BEGIN:VTIMEZONE
TZID:Indian/Mahe
BEGIN:STANDARD
DTSTART:20220216T120000
RDATE:20380119T071407
TZOFFSETFROM:+0400
TZOFFSETTO:+0400
TZNAME:Indian/Mahe +04
END:STANDARD
END:VTIMEZONE
BEGIN:VEVENT
UID:8f3f81c80095439b165a3ff44c8aca4f
CATEGORIES:Lecture
CREATED:20230216T081455
SUMMARY:Defect induced reactivity in solids
LOCATION:Classroom
DESCRIPTION;ENCODING=QUOTED-PRINTABLE:Seminar\non\nDefect induced reactivity in solids\nby\nProf. Dinesh Jagadees
 an, IIT Palakkad\non\nFriday, 17 February 2023\nTime:12:00pm\n\n This event
  was imported from: https://cens.res.in/en/events/eventdetail/412/-/defect-
 induced-reactivity-in-solids?tmpl=component
DTSTAMP:20260421T033450Z
DTSTART;TZID=Indian/Mahe:20230217T120000
DTEND;TZID=Indian/Mahe:20230217T140000
SEQUENCE:0
TRANSP:OPAQUE
END:VEVENT
END:VCALENDAR