BEGIN:VCALENDAR
VERSION:2.0
PRODID:-//jEvents 2.0 for Joomla//EN
CALSCALE:GREGORIAN
METHOD:PUBLISH
BEGIN:VTIMEZONE
TZID:Indian/Mahe
BEGIN:STANDARD
DTSTART:20220105T150000
RDATE:20380119T071407
TZOFFSETFROM:+0400
TZOFFSETTO:+0400
TZNAME:Indian/Mahe +04
END:STANDARD
END:VTIMEZONE
BEGIN:VEVENT
UID:1b6e4da99d55bf27af6af5d31b03b6c3
CATEGORIES:JAS
CREATED:20230102T093007
SUMMARY:Face masks as a platform for wearable sensors
LOCATION:Classroom
DESCRIPTION;ENCODING=QUOTED-PRINTABLE:<p style="margin: 0px 0px 10px; color: #444444; font-family: Verdana, Helve
 tica, Arial, sans-serif; font-size: 16px; font-style: normal; font-weight: 
 400; letter-spacing: normal; orphans: 2; text-indent: 0px; text-transform: 
 none; white-space: normal; widows: 2; word-spacing: 0px; text-align: center
 ;"><strong style="font-weight: bold;">JAS -2</strong></p><p style="margin: 
 0px 0px 10px; color: #444444; font-family: Verdana, Helvetica, Arial, sans-
 serif; font-size: 16px; font-style: normal; font-weight: 400; letter-spacin
 g: normal; orphans: 2; text-indent: 0px; text-transform: none; white-space:
  normal; widows: 2; word-spacing: 0px; text-align: center;">by</p><p style=
 "margin: 0px 0px 10px; color: #444444; font-family: Verdana, Helvetica, Ari
 al, sans-serif; font-size: 16px; font-style: normal; font-weight: 400; lett
 er-spacing: normal; orphans: 2; text-indent: 0px; text-transform: none; whi
 te-space: normal; widows: 2; word-spacing: 0px; text-align: center;"><stron
 g style="font-weight: bold;">&nbsp;</strong><strong>Mr. <span style="color:
  #2c363a; font-family: Verdana, Geneva, sans-serif; font-size: 12pt; font-s
 tyle: normal; letter-spacing: normal; orphans: 2; text-align: left; text-in
 dent: 0px; text-transform: none; white-space: normal; widows: 2; word-spaci
 ng: 0px; background-color: #ffffff; float: none;">Modasser Hossain</span></
 strong></p><p style="margin: 0px 0px 10px; color: #444444; font-family: Ver
 dana, Helvetica, Arial, sans-serif; font-size: 16px; font-style: normal; fo
 nt-weight: 400; letter-spacing: normal; orphans: 2; text-indent: 0px; text-
 transform: none; white-space: normal; widows: 2; word-spacing: 0px; text-al
 ign: center;"><strong style="font-weight: bold;">Title of the Paper:</stron
 g>&nbsp;<span style="color: #2c363a; font-family: Verdana, Geneva, sans-ser
 if; font-size: 12pt; font-style: normal; font-weight: 400; letter-spacing: 
 normal; orphans: 2; text-align: left; text-indent: 0px; text-transform: non
 e; white-space: normal; widows: 2; word-spacing: 0px; background-color: #ff
 ffff; float: none;">Face masks as a platform for wearable sensors</span><sp
 an style="font-size: 12pt;"><br /></span></p><p style="margin: 0px 0px 10px
 ; color: #444444; font-family: Verdana, Helvetica, Arial, sans-serif; font-
 size: 16px; font-style: normal; font-weight: 400; letter-spacing: normal; o
 rphans: 2; text-indent: 0px; text-transform: none; white-space: normal; wid
 ows: 2; word-spacing: 0px; text-align: center;"><strong style="font-weight:
  bold;">Journal name:</strong>&nbsp;Nature Electronics</p><p style="margin:
  0px 0px 10px; color: #444444; font-family: Verdana, Helvetica, Arial, sans
 -serif; font-size: 16px; font-style: normal; font-weight: 400; letter-spaci
 ng: normal; orphans: 2; text-indent: 0px; text-transform: none; white-space
 : normal; widows: 2; word-spacing: 0px; text-align: center;"><strong style=
 "font-weight: bold;">DOI: <span style="color: #2c363a; font-family: Verdana
 , Geneva, sans-serif; font-size: 13.3333px; font-style: normal; font-weight
 : 400; letter-spacing: normal; orphans: 2; text-align: left; text-indent: 0
 px; text-transform: none; white-space: normal; widows: 2; word-spacing: 0px
 ; background-color: #ffffff;"></span><a style="color: #008acc; text-decorat
 ion: underline; background-color: #ffffff; font-family: Verdana, Geneva, sa
 ns-serif; font-size: 13.3333px; font-style: normal; font-weight: 400; lette
 r-spacing: normal; orphans: 2; text-align: left; text-indent: 0px; text-tra
 nsform: none; white-space: normal; widows: 2; word-spacing: 0px;" href="htt
 ps://doi.org/10.1038/s41928-022-00851-6" target="_blank" rel="noopener nore
 ferrer">https://doi.org/10.1038/s41928-022-00851-6</a></strong></p> This ev
 ent was imported from: https://cens.res.in/en/events/eventdetail/404/-/face
 -masks-as-a-platform-for-wearable-sensors?tmpl=component
DTSTAMP:20260421T021237Z
DTSTART;TZID=Indian/Mahe:20230106T150000
DTEND;TZID=Indian/Mahe:20230106T170000
SEQUENCE:0
TRANSP:OPAQUE
END:VEVENT
END:VCALENDAR