BEGIN:VCALENDAR
VERSION:2.0
PRODID:-//jEvents 2.0 for Joomla//EN
CALSCALE:GREGORIAN
METHOD:PUBLISH
BEGIN:VTIMEZONE
TZID:Indian/Mahe
BEGIN:STANDARD
DTSTART:20211212T110000
RDATE:20380119T071407
TZOFFSETFROM:+0400
TZOFFSETTO:+0400
TZNAME:Indian/Mahe +04
END:STANDARD
END:VTIMEZONE
BEGIN:VEVENT
UID:3d5bfe492c29bf411ca4502935088806
CATEGORIES:Special Events
CREATED:20221212T110411
SUMMARY:Orientation on prevention of Sexual harassment at Workplace Act 2013
LOCATION:Classroom
DESCRIPTION;ENCODING=QUOTED-PRINTABLE:Special lecture \non \nOrientation on prevention of Sexual Harassement at w
 orkplace Act 2013\nby\nMs Meena K Jain\non\nTuesday, 13 December 2022\nTime
 : 11:oo am\nVenue: Classroom\n This event was imported from: https://cens.r
 es.in/en/events/eventdetail/401/-/orientation-on-prevention-of-sexual-haras
 sment-at-workplace-act-2013?tmpl=component
DTSTAMP:20260423T202713Z
DTSTART;TZID=Indian/Mahe:20221213T110000
DTEND;TZID=Indian/Mahe:20221213T120000
SEQUENCE:0
TRANSP:OPAQUE
END:VEVENT
END:VCALENDAR