BEGIN:VCALENDAR
VERSION:2.0
PRODID:-//jEvents 2.0 for Joomla//EN
CALSCALE:GREGORIAN
METHOD:PUBLISH
BEGIN:VTIMEZONE
TZID:Indian/Mahe
BEGIN:STANDARD
DTSTART:20211103T150000
RDATE:20380119T071407
TZOFFSETFROM:+0400
TZOFFSETTO:+0400
TZNAME:Indian/Mahe +04
END:STANDARD
END:VTIMEZONE
BEGIN:VEVENT
UID:285fd97810ce285cfa22ff91daef1cdc
CATEGORIES:Thematic Seminar
CREATED:20221101T150035
SUMMARY:Insights into Plant Nanobionics
LOCATION:Classroom
DESCRIPTION;ENCODING=QUOTED-PRINTABLE:Thematic Seminar\non\nInsights into Plant Nanobionics\nby&nbsp;\n&nbsp;Ms. 
 Swathi\non\nFriday, 4 November 2022\nTime:3:00 PM\n This event was imported
  from: https://cens.res.in/en/events/eventdetail/391/-/insights-into-plant-
 nanobionics?tmpl=component
DTSTAMP:20260421T063539Z
DTSTART;TZID=Indian/Mahe:20221104T150000
DTEND;TZID=Indian/Mahe:20221104T170000
SEQUENCE:0
TRANSP:OPAQUE
END:VEVENT
END:VCALENDAR