BEGIN:VCALENDAR
VERSION:2.0
PRODID:-//jEvents 2.0 for Joomla//EN
CALSCALE:GREGORIAN
METHOD:PUBLISH
BEGIN:VTIMEZONE
TZID:Indian/Mahe
BEGIN:STANDARD
DTSTART:20211006T150000
RDATE:20380119T071407
TZOFFSETFROM:+0400
TZOFFSETTO:+0400
TZNAME:Indian/Mahe +04
END:STANDARD
END:VTIMEZONE
BEGIN:VEVENT
UID:7954cfe8d45ffbbfad196bba793d3a87
CATEGORIES:Thematic Seminar
CREATED:20221006T125101
SUMMARY:Robotics in the Microscopic World
LOCATION:Classroom
DESCRIPTION;ENCODING=QUOTED-PRINTABLE:Thematic Seminar\nTitle of the paper: " Robotics in the Microscopic World".
 \nby\nMr. Kenneth Lobo\n\n\n&nbsp;\n\n\n&nbsp;\n\n\nDate: October 7, 2022\n
 \n\nTime:3:00 PM\n\n\nVenue: Classroom\n This event was imported from: http
 s://cens.res.in/en/events/eventdetail/386/-/robotics-in-the-microscopic-wor
 ld?tmpl=component
DTSTAMP:20260421T051220Z
DTSTART;TZID=Indian/Mahe:20221007T150000
DTEND;TZID=Indian/Mahe:20221007T170000
SEQUENCE:0
TRANSP:OPAQUE
END:VEVENT
END:VCALENDAR