BEGIN:VCALENDAR
VERSION:2.0
PRODID:-//jEvents 2.0 for Joomla//EN
CALSCALE:GREGORIAN
METHOD:PUBLISH
BEGIN:VTIMEZONE
TZID:Indian/Mahe
BEGIN:STANDARD
DTSTART:20210615T143000
RDATE:20380119T071407
TZOFFSETFROM:+0400
TZOFFSETTO:+0400
TZNAME:Indian/Mahe +04
END:STANDARD
END:VTIMEZONE
BEGIN:VEVENT
UID:d44336f704abdb57412e69dc35492237
CATEGORIES:Cens Colloquium
CREATED:20220616T072216
SUMMARY:Transition metal chalcogenides with diverse morphologies: applications in sensing, tribology and antimicrobial activity
LOCATION:Class Room, CeNS
DESCRIPTION;ENCODING=QUOTED-PRINTABLE:<p style="text-align: center;">Thesis Colloquium</p><p style="text-align: c
 enter;"><em><strong>Topic: Transition metal chalcogenides with diverse morp
 hologies: applications in sensing, tribology and antimicrobial activity</st
 rong></em></p><p style="text-align: center;">by</p><p style="text-align: ce
 nter;"><strong>Ms. Ramya Prabhu B</strong></p><p></p> This event was import
 ed from: https://cens.res.in/en/events/eventdetail/371/-/transition-metal-c
 halcogenides-with-diverse-morphologies-applications-in-sensing-tribology-an
 d-antimicrobial-activity?tmpl=component
DTSTAMP:20260421T051517Z
DTSTART;TZID=Indian/Mahe:20220616T143000
DTEND;TZID=Indian/Mahe:20220616T170000
SEQUENCE:0
TRANSP:OPAQUE
END:VEVENT
END:VCALENDAR