BEGIN:VCALENDAR
VERSION:2.0
PRODID:-//jEvents 2.0 for Joomla//EN
CALSCALE:GREGORIAN
METHOD:PUBLISH
BEGIN:VTIMEZONE
TZID:Indian/Mahe
BEGIN:STANDARD
DTSTART:20210608T113000
RDATE:20380119T071407
TZOFFSETFROM:+0400
TZOFFSETTO:+0400
TZNAME:Indian/Mahe +04
END:STANDARD
END:VTIMEZONE
BEGIN:VEVENT
UID:2415469ffc49283512b1946dde2e25a2
CATEGORIES:Cens Colloquium
CREATED:20220606T104053
SUMMARY:Studies on thin films of some amphiphilic mesogenic molecules at interfaces
LOCATION:CeNS Classroom and Online
DESCRIPTION;ENCODING=QUOTED-PRINTABLE:Thesis Colloquium\nStudies on thin films of some amphiphilic mesogenic mole
 cules at interfaces\nby\nMs. Pinchu Xavier\non\nThursday, June 9, 2022\nTim
 e: 11:30 AM\n This event was imported from: https://cens.res.in/en/events/e
 ventdetail/369/-/studies-on-thin-films-of-some-amphiphilic-mesogenic-molecu
 les-at-interfaces?tmpl=component
DTSTAMP:20260421T082214Z
DTSTART;TZID=Indian/Mahe:20220609T113000
DTEND;TZID=Indian/Mahe:20220609T123000
SEQUENCE:0
TRANSP:OPAQUE
END:VEVENT
END:VCALENDAR