BEGIN:VCALENDAR
VERSION:2.0
PRODID:-//jEvents 2.0 for Joomla//EN
CALSCALE:GREGORIAN
METHOD:PUBLISH
BEGIN:VTIMEZONE
TZID:Indian/Mahe
BEGIN:STANDARD
DTSTART:20210411T153000
RDATE:20380119T071407
TZOFFSETFROM:+0400
TZOFFSETTO:+0400
TZNAME:Indian/Mahe +04
END:STANDARD
END:VTIMEZONE
BEGIN:VEVENT
UID:632ca20b2e39d0d0617afe7a69d2d5d7
CATEGORIES:Viva voce
CREATED:20220408T141936
SUMMARY:Fabrication of oxide nanostructures using glad for device applications
LOCATION:Class Room
DESCRIPTION;ENCODING=QUOTED-PRINTABLE:<p style="text-align: center;"><em>Open Defense and viva-voce examination&n
 bsp;of the PhD thesis entitled</em></p><p style="text-align: center;"><em>“
 <strong>Fabrication of oxide nanostructures using </strong><strong>glad </s
 trong><strong>for device applications</strong></em></p><p style="text-align
 : center;">&nbsp;By</p><p style="text-align: center;">&nbsp;<strong>Mr Gaur
 av Shukla</strong></p><p style="text-align: center;">&nbsp;on</p><p style="
 text-align: center;">&nbsp;<strong>Tuesday, 12 April 2022</strong></p><p st
 yle="text-align: center;"><strong>&nbsp;Time: </strong><strong>3:30 P.M</st
 rong></p> This event was imported from: https://cens.res.in/en/events/event
 detail/360/-/fabrication-of-oxide-nanostructures-using-glad-for-device-appl
 ications?tmpl=component
DTSTAMP:20260420T212442Z
DTSTART;TZID=Indian/Mahe:20220412T153000
DTEND;TZID=Indian/Mahe:20220412T163000
SEQUENCE:0
TRANSP:OPAQUE
END:VEVENT
END:VCALENDAR